BEGIN:VCALENDAR
VERSION:2.0
METHOD:PUBLISH
PRODID:-//Missouri State University/Calendar of Events//EN
CALSCALE:GREGORIAN
X-WR-TIMEZONE:America/Chicago
BEGIN:VTIMEZONE
TZID:America/Chicago
BEGIN:DAYLIGHT
TZOFFSETFROM:-0600
TZOFFSETTO:-0500
DTSTART:20070311T020000
RRULE:FREQ=YEARLY;BYMONTH=3;BYDAY=2SU
TZNAME:CDT
END:DAYLIGHT
BEGIN:STANDARD
TZOFFSETFROM:-0500
TZOFFSETTO:-0600
DTSTART:20071104T020000
RRULE:FREQ=YEARLY;BYMONTH=11;BYDAY=1SU
TZNAME:CST
END:STANDARD
END:VTIMEZONE
BEGIN:VEVENT
UID:4b284721-352e-4f31-bc03-d98f2621b241.228631@calendar.missouristate.edu
CREATED:20230803T131258Z
LAST-MODIFIED:20230803T131258Z
LOCATION:Plaster Student Union\, Robert W. 101
SUMMARY:Beadwork Workshop
DESCRIPTION:Another even you LOVED last year! Come to the Multicultural Re
 source Center and work on your beadwork skills. Our friends from the Amer
 ican Indian Center will speak about the history of beadwork and its herit
 age. 
X-ALT-DESC;FMTTYPE=text/html:&lt;html&gt;&lt;head&gt;&lt;title&gt;&lt;/title&gt;&lt;/head&gt;&lt;body&gt;&lt;p&gt;An
 other even you LOVED last year! Come to the Multicultural Resource Center
  and work on your beadwork skills. Our friends from the American Indian C
 enter will speak about the history of beadwork and its heritage.&amp;nbsp\;&lt;/
 p&gt;&lt;/body&gt;&lt;/html&gt;
DTSTART;TZID=America/Chicago:20231128T130000
DTEND;TZID=America/Chicago:20231128T150000
SEQUENCE:0
URL:http://MissouriState.edu/MulticulturalPrograms
CATEGORIES:Current Students
END:VEVENT
END:VCALENDAR