BEGIN:VCALENDAR
VERSION:2.0
METHOD:PUBLISH
PRODID:-//Missouri State University/Calendar of Events//EN
CALSCALE:GREGORIAN
X-WR-TIMEZONE:America/Chicago
BEGIN:VTIMEZONE
TZID:America/Chicago
BEGIN:DAYLIGHT
TZOFFSETFROM:-0600
TZOFFSETTO:-0500
DTSTART:20070311T020000
RRULE:FREQ=YEARLY;BYMONTH=3;BYDAY=2SU
TZNAME:CDT
END:DAYLIGHT
BEGIN:STANDARD
TZOFFSETFROM:-0500
TZOFFSETTO:-0600
DTSTART:20071104T020000
RRULE:FREQ=YEARLY;BYMONTH=11;BYDAY=1SU
TZNAME:CST
END:STANDARD
END:VTIMEZONE
BEGIN:VEVENT
UID:fd9c6fec-40ea-456e-910a-34561ec370f4.228639@calendar.missouristate.edu
CREATED:20230714T134935Z
LAST-MODIFIED:20230714T134935Z
LOCATION:Recreation Center\, Bill R. Foster and Family
SUMMARY:Student Employment Job Fair
DESCRIPTION:Join us for a Job Fair at Foster Recreation Center from 11:30 
 a.m.-2 p.m. Aug. 31. You'll meet on-campus and community employers and fi
 nd out about great opportunities.\n\n\nWhen you work part time as a stude
 nt\, you gain so much more than a paycheck. You will:\n\n\n\nBuild your r
 esume\nGain new skills\nMeet new people\nBuild your network\nImprove your
  time management skills
X-ALT-DESC;FMTTYPE=text/html:&lt;html&gt;&lt;head&gt;&lt;title&gt;&lt;/title&gt;&lt;/head&gt;&lt;body&gt;&lt;p&gt;Jo
 in us for a Job Fair at Foster Recreation Center from 11:30 a.m.-2 p.m. A
 ug. 31. You'll meet on-campus and community employers and find out about 
 great opportunities.&lt;/p&gt;\n&lt;p&gt;When you work part time as a student\, you g
 ain so much more than a paycheck. You will:&lt;/p&gt;\n&lt;ul&gt;\n&lt;li&gt;Build your res
 ume&lt;/li&gt;\n&lt;li&gt;Gain new skills&lt;/li&gt;\n&lt;li&gt;Meet new people&lt;/li&gt;\n&lt;li&gt;Build y
 our network&lt;/li&gt;\n&lt;li&gt;Improve your time management skills&lt;/li&gt;\n&lt;/ul&gt;&lt;/bo
 dy&gt;&lt;/html&gt;
DTSTART;TZID=America/Chicago:20230831T113000
DTEND;TZID=America/Chicago:20230831T140000
SEQUENCE:0
URL:
CATEGORIES:Current Students,Faculty,Staff
END:VEVENT
END:VCALENDAR