BEGIN:VCALENDAR
VERSION:2.0
METHOD:PUBLISH
PRODID:-//Missouri State University/Calendar of Events//EN
CALSCALE:GREGORIAN
X-WR-TIMEZONE:America/Chicago
BEGIN:VTIMEZONE
TZID:America/Chicago
BEGIN:DAYLIGHT
TZOFFSETFROM:-0600
TZOFFSETTO:-0500
DTSTART:20070311T020000
RRULE:FREQ=YEARLY;BYMONTH=3;BYDAY=2SU
TZNAME:CDT
END:DAYLIGHT
BEGIN:STANDARD
TZOFFSETFROM:-0500
TZOFFSETTO:-0600
DTSTART:20071104T020000
RRULE:FREQ=YEARLY;BYMONTH=11;BYDAY=1SU
TZNAME:CST
END:STANDARD
END:VTIMEZONE
BEGIN:VEVENT
UID:a9b17109-ab38-4ff2-bc82-c6b5d211d50b.228643@calendar.missouristate.edu
CREATED:20230718T133805Z
LAST-MODIFIED:20230718T133805Z
LOCATION:
SUMMARY:Away Game to KU
DESCRIPTION:We will be taking 56 students to watch the Bears compete again
 st the Jayhawks in Lawrence\, Kansas. Any student that attends will get a
  limited-edition shirt and a stadium bag. \n\n\nSignups to attend will be
  August 21st - August 29th at the front desk of the Office of Student Eng
 agement in the PSU. 
X-ALT-DESC;FMTTYPE=text/html:&lt;html&gt;&lt;head&gt;&lt;title&gt;&lt;/title&gt;&lt;/head&gt;&lt;body&gt;&lt;p&gt;We
  will be taking 56 students to watch the Bears compete against the Jayhaw
 ks in Lawrence\, Kansas. Any student that attends will get a limited-edit
 ion shirt and a stadium bag.&amp;nbsp\;&lt;/p&gt;\n&lt;p&gt;Signups to attend will be Aug
 ust 21st - August 29th at the front desk of the Office of Student Engagem
 ent in the PSU.&amp;nbsp\;&lt;/p&gt;&lt;/body&gt;&lt;/html&gt;
DTSTART;TZID=America/Chicago:20230901T133000
DTEND;TZID=America/Chicago:20230901T010000
SEQUENCE:0
URL:119853.jpg
CATEGORIES:Current Students
END:VEVENT
END:VCALENDAR