BEGIN:VCALENDAR
VERSION:2.0
METHOD:PUBLISH
PRODID:-//Missouri State University/Calendar of Events//EN
CALSCALE:GREGORIAN
X-WR-TIMEZONE:America/Chicago
BEGIN:VTIMEZONE
TZID:America/Chicago
BEGIN:DAYLIGHT
TZOFFSETFROM:-0600
TZOFFSETTO:-0500
DTSTART:20070311T020000
RRULE:FREQ=YEARLY;BYMONTH=3;BYDAY=2SU
TZNAME:CDT
END:DAYLIGHT
BEGIN:STANDARD
TZOFFSETFROM:-0500
TZOFFSETTO:-0600
DTSTART:20071104T020000
RRULE:FREQ=YEARLY;BYMONTH=11;BYDAY=1SU
TZNAME:CST
END:STANDARD
END:VTIMEZONE
BEGIN:VEVENT
UID:0e6544a1-f797-47af-968a-fd5fbea9d4e6_10047@calendar.missouristate.edu
CREATED:20230721T150648Z
LAST-MODIFIED:20230721T150648Z
LOCATION:To Be Determined
SUMMARY:Citizen Scholars Nominations 
DESCRIPTION:The Board of Governors is soliciting nominations for the 2023-
 24 Citizen Scholar Award. This is the highest award available to Missouri
  State University students. Since the award’s inception in 2007\, 95 exce
 ptional students have been recognized for their stellar achievements with
  academics\, community engagement and leadership.\n\n\nWe request your no
 minations for the recognition of six more outstanding Citizen Scholars. T
 he nomination deadline is Sept. 7\, 2023. Winners will be selected by a B
 oard of Governors subcommittee and will then be introduced before the ful
 l board at the Dec. 14 meeting. The recipients\, their parents and nomina
 ting faculty and staff will be invited to attend a dinner honoring the se
 lected students on Dec. 14\n\n\nThe nomination procedure\, forms and sele
 ction criteria can be found on the Citizen Scholar homepage.
X-ALT-DESC;FMTTYPE=text/html:&lt;html&gt;&lt;head&gt;&lt;title&gt;&lt;/title&gt;&lt;/head&gt;&lt;body&gt;&lt;p&gt;Th
 e Board of Governors is soliciting nominations for the 2023-24 Citizen Sc
 holar Award. This is the highest award available to Missouri State Univer
 sity students. Since the award’s inception in 2007\, 95 exceptional stude
 nts have been recognized for their stellar achievements with academics\, 
 community engagement and leadership.&lt;/p&gt;\n&lt;p&gt;We request your nominations 
 for the recognition of six more outstanding Citizen Scholars. The nominat
 ion deadline is &lt;strong&gt;Sept. 7\, 2023&lt;/strong&gt;. Winners will be selected
  by a Board of Governors subcommittee and will then be introduced before 
 the full board at the Dec. 14 meeting. The recipients\, their parents and
  nominating faculty and staff will be invited to attend a dinner honoring
  the selected students on Dec. 14&lt;/p&gt;\n&lt;p&gt;The nomination procedure\, form
 s and selection criteria can be found on the &lt;a href="http://studentaffai
 rs.missouristate.edu/citizenscholaraward.htm"&gt;Citizen Scholar homepage&lt;/a
 &gt;.&lt;/p&gt;&lt;/body&gt;&lt;/html&gt;
DTSTART;TZID=America/Chicago:20230724T000000
DTEND;TZID=America/Chicago:20230724T000000
RRULE:FREQ=DAILY;UNTIL=20230908
SEQUENCE:0
URL:http://studentaffairs.missouristate.edu/citizenscholaraward.htm
CATEGORIES:Current Students,Faculty,Staff
END:VEVENT
END:VCALENDAR