BEGIN:VCALENDAR
VERSION:2.0
METHOD:PUBLISH
PRODID:-//Missouri State University/Calendar of Events//EN
CALSCALE:GREGORIAN
X-WR-TIMEZONE:America/Chicago
BEGIN:VTIMEZONE
TZID:America/Chicago
BEGIN:DAYLIGHT
TZOFFSETFROM:-0600
TZOFFSETTO:-0500
DTSTART:20070311T020000
RRULE:FREQ=YEARLY;BYMONTH=3;BYDAY=2SU
TZNAME:CDT
END:DAYLIGHT
BEGIN:STANDARD
TZOFFSETFROM:-0500
TZOFFSETTO:-0600
DTSTART:20071104T020000
RRULE:FREQ=YEARLY;BYMONTH=11;BYDAY=1SU
TZNAME:CST
END:STANDARD
END:VTIMEZONE
BEGIN:VEVENT
UID:bd02e901-306a-4df3-b777-74778cfcaa9f.228693@calendar.missouristate.edu
CREATED:20230719T213828Z
LAST-MODIFIED:20230719T213828Z
LOCATION:Plaster Student Union\, Robert W. Room 127 - Office of Student En
 gagement
SUMMARY:Transfer Student Ice Cream Social
DESCRIPTION:Come meet other transfer students\, hear from student leaders 
 and Tau Sigma members\, play a fun quiz game with prizes and best of all 
 ... enjoy ice cream!
X-ALT-DESC;FMTTYPE=text/html:&lt;html&gt;&lt;head&gt;&lt;title&gt;&lt;/title&gt;&lt;/head&gt;&lt;body&gt;&lt;p&gt;Co
 me meet other transfer students\, hear from student leaders and Tau Sigma
  members\, play a fun quiz game with prizes and best of all ... enjoy ice
  cream!&lt;/p&gt;&lt;/body&gt;&lt;/html&gt;
DTSTART;TZID=America/Chicago:20230819T140000
DTEND;TZID=America/Chicago:20230819T150000
SEQUENCE:1
URL:http://www.missouristate.edu/welcome
CATEGORIES:Current Students
END:VEVENT
END:VCALENDAR