BEGIN:VCALENDAR
VERSION:2.0
METHOD:PUBLISH
PRODID:-//Missouri State University/Calendar of Events//EN
CALSCALE:GREGORIAN
X-WR-TIMEZONE:America/Chicago
BEGIN:VTIMEZONE
TZID:America/Chicago
BEGIN:DAYLIGHT
TZOFFSETFROM:-0600
TZOFFSETTO:-0500
DTSTART:20070311T020000
RRULE:FREQ=YEARLY;BYMONTH=3;BYDAY=2SU
TZNAME:CDT
END:DAYLIGHT
BEGIN:STANDARD
TZOFFSETFROM:-0500
TZOFFSETTO:-0600
DTSTART:20071104T020000
RRULE:FREQ=YEARLY;BYMONTH=11;BYDAY=1SU
TZNAME:CST
END:STANDARD
END:VTIMEZONE
BEGIN:VEVENT
UID:a72c45ec-7dc7-4a7f-88c6-23e2fe78dd31.228694@calendar.missouristate.edu
CREATED:20230721T143206Z
LAST-MODIFIED:20230721T143206Z
LOCATION:Plaster Student Union\, Robert W. Food Court
SUMMARY:Welcome Weekend: Craft Time
DESCRIPTION:Paint a picture for your room or make a sign to hang on your d
 oor. You can also learn how to marble paper and send a note to family and
  friends on cool stationery. Join us for this come-and-go event.
X-ALT-DESC;FMTTYPE=text/html:&lt;html&gt;&lt;head&gt;&lt;title&gt;&lt;/title&gt;&lt;/head&gt;&lt;body&gt;&lt;p&gt;&lt;s
 pan&gt;Paint a picture for your room or make a sign to hang on your door. Yo
 u can also learn how to marble paper and send a note to family and friend
 s on cool stationery. Join us for this come-and-go event.&lt;/span&gt;&lt;/p&gt;&lt;/bod
 y&gt;&lt;/html&gt;
DTSTART;TZID=America/Chicago:20230817T130000
DTEND;TZID=America/Chicago:20230817T160000
SEQUENCE:0
URL:
CATEGORIES:Current Students
END:VEVENT
END:VCALENDAR