BEGIN:VCALENDAR
VERSION:2.0
METHOD:PUBLISH
PRODID:-//Missouri State University/Calendar of Events//EN
CALSCALE:GREGORIAN
X-WR-TIMEZONE:America/Chicago
BEGIN:VTIMEZONE
TZID:America/Chicago
BEGIN:DAYLIGHT
TZOFFSETFROM:-0600
TZOFFSETTO:-0500
DTSTART:20070311T020000
RRULE:FREQ=YEARLY;BYMONTH=3;BYDAY=2SU
TZNAME:CDT
END:DAYLIGHT
BEGIN:STANDARD
TZOFFSETFROM:-0500
TZOFFSETTO:-0600
DTSTART:20071104T020000
RRULE:FREQ=YEARLY;BYMONTH=11;BYDAY=1SU
TZNAME:CST
END:STANDARD
END:VTIMEZONE
BEGIN:VEVENT
UID:6c8e5363-0231-4278-96f0-d469a21d70f6.228695@calendar.missouristate.edu
CREATED:20230721T142327Z
LAST-MODIFIED:20230721T142327Z
LOCATION:Plaster Student Union\, Robert W. Bear Statue
SUMMARY:Welcome Weekend: Traditions Tours
DESCRIPTION:Missouri State is 118 years young\, so you can bet we have a l
 ot of tradition on this campus. Meet at the PSU Bear Statue to take a gui
 ded tour and uncover the secrets and history of the university. Tours lea
 ve at 6 and 6:30 p.m.
X-ALT-DESC;FMTTYPE=text/html:&lt;html&gt;&lt;head&gt;&lt;title&gt;&lt;/title&gt;&lt;/head&gt;&lt;body&gt;&lt;p&gt;&lt;s
 pan&gt;Missouri State is 118 years young\, so you can bet we have a lot of t
 radition on this campus. Meet at the PSU Bear Statue to take a guided tou
 r and uncover the secrets and history of the university. Tours leave at 6
  and 6:30 p.m.&lt;/span&gt;&lt;/p&gt;&lt;/body&gt;&lt;/html&gt;
DTSTART;TZID=America/Chicago:20230817T180000
DTEND;TZID=America/Chicago:20230817T190000
SEQUENCE:0
URL:119860.jpg
CATEGORIES:Current Students
END:VEVENT
END:VCALENDAR