BEGIN:VCALENDAR
VERSION:2.0
METHOD:PUBLISH
PRODID:-//Missouri State University/Calendar of Events//EN
CALSCALE:GREGORIAN
X-WR-TIMEZONE:America/Chicago
BEGIN:VTIMEZONE
TZID:America/Chicago
BEGIN:DAYLIGHT
TZOFFSETFROM:-0600
TZOFFSETTO:-0500
DTSTART:20070311T020000
RRULE:FREQ=YEARLY;BYMONTH=3;BYDAY=2SU
TZNAME:CDT
END:DAYLIGHT
BEGIN:STANDARD
TZOFFSETFROM:-0500
TZOFFSETTO:-0600
DTSTART:20071104T020000
RRULE:FREQ=YEARLY;BYMONTH=11;BYDAY=1SU
TZNAME:CST
END:STANDARD
END:VTIMEZONE
BEGIN:VEVENT
UID:8a182de3-7445-4f16-8efd-2341efa87f72.228697@calendar.missouristate.edu
CREATED:20230721T143140Z
LAST-MODIFIED:20230721T143140Z
LOCATION:Plaster Student Union\, Robert W. Room 313
SUMMARY:Welcome Weekend: Crafting with String Art
DESCRIPTION:We will be mastering thread and yarn art at these crafting sta
 tions. Make a geometric bear or create your own design. You'll also have 
 the opportunity to try your hand at the art of yarn canvas. Enjoy some cr
 afting and meet other Bears who have just arrived on campus.
X-ALT-DESC;FMTTYPE=text/html:&lt;html&gt;&lt;head&gt;&lt;title&gt;&lt;/title&gt;&lt;/head&gt;&lt;body&gt;&lt;p&gt;&lt;s
 pan&gt;We will be mastering thread and yarn art at these crafting stations. 
 Make a geometric bear or create your own design. You'll also have the opp
 ortunity to try your hand at the art of yarn canvas. Enjoy some crafting 
 and meet other Bears who have just arrived on campus.&lt;/span&gt;&lt;/p&gt;&lt;/body&gt;&lt;/
 html&gt;
DTSTART;TZID=America/Chicago:20230818T110000
DTEND;TZID=America/Chicago:20230818T140000
SEQUENCE:0
URL:
CATEGORIES:Current Students,Faculty,Staff
END:VEVENT
END:VCALENDAR