BEGIN:VCALENDAR
VERSION:2.0
METHOD:PUBLISH
PRODID:-//Missouri State University/Calendar of Events//EN
CALSCALE:GREGORIAN
X-WR-TIMEZONE:America/Chicago
BEGIN:VTIMEZONE
TZID:America/Chicago
BEGIN:DAYLIGHT
TZOFFSETFROM:-0600
TZOFFSETTO:-0500
DTSTART:20070311T020000
RRULE:FREQ=YEARLY;BYMONTH=3;BYDAY=2SU
TZNAME:CDT
END:DAYLIGHT
BEGIN:STANDARD
TZOFFSETFROM:-0500
TZOFFSETTO:-0600
DTSTART:20071104T020000
RRULE:FREQ=YEARLY;BYMONTH=11;BYDAY=1SU
TZNAME:CST
END:STANDARD
END:VTIMEZONE
BEGIN:VEVENT
UID:a8e9d7ac-7e48-4c03-a0c5-a3220fc569ed.228699@calendar.missouristate.edu
CREATED:20230721T184121Z
LAST-MODIFIED:20230721T184121Z
LOCATION:Great Southern Bank Arena
SUMMARY:Welcome Weekend: Convocation 2023
DESCRIPTION:This is the official welcome ceremony for new students. Come s
 ee the faculty and staff guiding your college journey. You’ll also hear f
 rom our university president\, Clif Smart.
X-ALT-DESC;FMTTYPE=text/html:&lt;html&gt;&lt;head&gt;&lt;title&gt;&lt;/title&gt;&lt;/head&gt;&lt;body&gt;&lt;p&gt;&lt;s
 pan&gt;This is the official welcome ceremony for new students. Come see the 
 faculty and staff guiding your college journey. You’ll also hear from our
  university president\, Clif Smart.&lt;/span&gt;&lt;/p&gt;&lt;/body&gt;&lt;/html&gt;
DTSTART;TZID=America/Chicago:20230820T140000
DTEND;TZID=America/Chicago:20230820T150000
SEQUENCE:0
URL:119863.jpg
CATEGORIES:Public,Alumni,Current Students,Faculty,Future Students,Staff
END:VEVENT
END:VCALENDAR