BEGIN:VCALENDAR
VERSION:2.0
METHOD:PUBLISH
PRODID:-//Missouri State University/Calendar of Events//EN
CALSCALE:GREGORIAN
X-WR-TIMEZONE:America/Chicago
BEGIN:VTIMEZONE
TZID:America/Chicago
BEGIN:DAYLIGHT
TZOFFSETFROM:-0600
TZOFFSETTO:-0500
DTSTART:20070311T020000
RRULE:FREQ=YEARLY;BYMONTH=3;BYDAY=2SU
TZNAME:CDT
END:DAYLIGHT
BEGIN:STANDARD
TZOFFSETFROM:-0500
TZOFFSETTO:-0600
DTSTART:20071104T020000
RRULE:FREQ=YEARLY;BYMONTH=11;BYDAY=1SU
TZNAME:CST
END:STANDARD
END:VTIMEZONE
BEGIN:VEVENT
UID:fa38b75f-6168-4a48-801c-314e15db1b12.228700@calendar.missouristate.edu
CREATED:20230721T184214Z
LAST-MODIFIED:20230721T184214Z
LOCATION:Plaster Stadium\, Robert W. Bear Fest Village
SUMMARY:Welcome Weekend: Student Organization Festival
DESCRIPTION:We have more than 300 student organizations. There's at least 
 one that's right for you. Come meet representatives and find out how you 
 can get involved right away on campus.\n\n\nIn case of rain\, event will 
 be canceled and announced at Convocation. 
X-ALT-DESC;FMTTYPE=text/html:&lt;html&gt;&lt;head&gt;&lt;title&gt;&lt;/title&gt;&lt;/head&gt;&lt;body&gt;&lt;p&gt;&lt;s
 pan&gt;We have more than 300 student organizations. There's at least one tha
 t's right for you. Come meet representatives and find out how you can get
  involved right away on campus.&lt;/span&gt;&lt;/p&gt;\n&lt;p&gt;&lt;span&gt;In case of rain\, ev
 ent will be canceled and announced at Convocation.&amp;nbsp\;&lt;/span&gt;&lt;/p&gt;&lt;/bod
 y&gt;&lt;/html&gt;
DTSTART;TZID=America/Chicago:20230820T150000
DTEND;TZID=America/Chicago:20230820T170000
SEQUENCE:0
URL:119864.jpg
CATEGORIES:Current Students
END:VEVENT
END:VCALENDAR