BEGIN:VCALENDAR
VERSION:2.0
METHOD:PUBLISH
PRODID:-//Missouri State University/Calendar of Events//EN
CALSCALE:GREGORIAN
X-WR-TIMEZONE:America/Chicago
BEGIN:VTIMEZONE
TZID:America/Chicago
BEGIN:DAYLIGHT
TZOFFSETFROM:-0600
TZOFFSETTO:-0500
DTSTART:20070311T020000
RRULE:FREQ=YEARLY;BYMONTH=3;BYDAY=2SU
TZNAME:CDT
END:DAYLIGHT
BEGIN:STANDARD
TZOFFSETFROM:-0500
TZOFFSETTO:-0600
DTSTART:20071104T020000
RRULE:FREQ=YEARLY;BYMONTH=11;BYDAY=1SU
TZNAME:CST
END:STANDARD
END:VTIMEZONE
BEGIN:VEVENT
UID:3770c3d9-28c5-437f-9314-dafb3e7f0d2e.228702@calendar.missouristate.edu
CREATED:20230724T192946Z
LAST-MODIFIED:20230724T192946Z
LOCATION:
SUMMARY:College of Business Career Fair
DESCRIPTION:This career fair is designed to connect business\, actuarial m
 athematics and computer science students with employers searching for tho
 se majors.\n\n\nRead specific policies at: https://business.missouristate
 .edu/cob-career-fair-student.htm.
X-ALT-DESC;FMTTYPE=text/html:&lt;html&gt;&lt;head&gt;&lt;title&gt;&lt;/title&gt;&lt;/head&gt;&lt;body&gt;&lt;p&gt;&lt;s
 pan&gt;This career fair is designed to connect business\, actuarial mathemat
 ics and computer science students with employers searching for those majo
 rs.&lt;/span&gt;&lt;/p&gt;\n&lt;div&gt;Read specific policies at:&amp;nbsp\;&lt;a href="https://bu
 siness.missouristate.edu/cob-career-fair-student.htm" rel="nofollow" targ
 et="_blank"&gt;https://business.missouristate.edu/cob-career-fair-student.ht
 m&lt;/a&gt;.&lt;/div&gt;&lt;/body&gt;&lt;/html&gt;
DTSTART;TZID=America/Chicago:20230912T100000
DTEND;TZID=America/Chicago:20230912T140000
SEQUENCE:0
URL:https://business.missouristate.edu/Career-Fairs.htm
CATEGORIES:Current Students
END:VEVENT
END:VCALENDAR