BEGIN:VCALENDAR
VERSION:2.0
METHOD:PUBLISH
PRODID:-//Missouri State University/Calendar of Events//EN
CALSCALE:GREGORIAN
X-WR-TIMEZONE:America/Chicago
BEGIN:VTIMEZONE
TZID:America/Chicago
BEGIN:DAYLIGHT
TZOFFSETFROM:-0600
TZOFFSETTO:-0500
DTSTART:20070311T020000
RRULE:FREQ=YEARLY;BYMONTH=3;BYDAY=2SU
TZNAME:CDT
END:DAYLIGHT
BEGIN:STANDARD
TZOFFSETFROM:-0500
TZOFFSETTO:-0600
DTSTART:20071104T020000
RRULE:FREQ=YEARLY;BYMONTH=11;BYDAY=1SU
TZNAME:CST
END:STANDARD
END:VTIMEZONE
BEGIN:VEVENT
UID:a0091da7-0f9d-4f38-afa6-b1337c15133e.228703@calendar.missouristate.edu
CREATED:20230724T193537Z
LAST-MODIFIED:20230724T193537Z
LOCATION:
SUMMARY:Technology and Construction Management Career Fair
DESCRIPTION:This fair is specifically designed to connect Technology and C
 onstruction Management\, Interior Design\, Mechanical Engineering Technol
 ogy and Project Management students with employers searching for those ma
 jors. \n\n\nPlease read specific policies here: https://business.missouri
 state.edu/cob-career-fair-student.htm.
X-ALT-DESC;FMTTYPE=text/html:&lt;html&gt;&lt;head&gt;&lt;title&gt;&lt;/title&gt;&lt;/head&gt;&lt;body&gt;&lt;p&gt;&lt;s
 pan&gt;This fair is specifically designed to connect Technology and Construc
 tion Management\, Interior Design\, Mechanical Engineering Technology and
  Project Management students with employers searching for those majors.&amp;n
 bsp\;&lt;/span&gt;&lt;/p&gt;\n&lt;div&gt;Please read specific policies&amp;nbsp\;here:&amp;nbsp\;&lt;a
  href="https://business.missouristate.edu/cob-career-fair-student.htm" re
 l="nofollow" target="_blank"&gt;https://business.missouristate.edu/cob-caree
 r-fair-student.htm&lt;/a&gt;.&lt;/div&gt;&lt;/body&gt;&lt;/html&gt;
DTSTART;TZID=America/Chicago:20230913T100000
DTEND;TZID=America/Chicago:20230913T140000
SEQUENCE:0
URL:https://business.missouristate.edu/Career-Fairs.htm
CATEGORIES:Current Students
END:VEVENT
END:VCALENDAR