BEGIN:VCALENDAR
VERSION:2.0
METHOD:PUBLISH
PRODID:-//Missouri State University/Calendar of Events//EN
CALSCALE:GREGORIAN
X-WR-TIMEZONE:America/Chicago
BEGIN:VTIMEZONE
TZID:America/Chicago
BEGIN:DAYLIGHT
TZOFFSETFROM:-0600
TZOFFSETTO:-0500
DTSTART:20070311T020000
RRULE:FREQ=YEARLY;BYMONTH=3;BYDAY=2SU
TZNAME:CDT
END:DAYLIGHT
BEGIN:STANDARD
TZOFFSETFROM:-0500
TZOFFSETTO:-0600
DTSTART:20071104T020000
RRULE:FREQ=YEARLY;BYMONTH=11;BYDAY=1SU
TZNAME:CST
END:STANDARD
END:VTIMEZONE
BEGIN:VEVENT
UID:2e3dfca5-02fd-408d-be05-a73baf6feb84.228704@calendar.missouristate.edu
CREATED:20230724T192700Z
LAST-MODIFIED:20230724T192700Z
LOCATION:Glass Hall\, David D. 354
SUMMARY:2023 Prepare for the Fair Workshop
DESCRIPTION:All students who plan to attend the COB or TCM Career Fair mus
 t complete the required Prepare for the Fair Workshop. Workshops for the 
 Fall of 2023 will be held in person.\n\n\nStudent must be business\, actu
 arial mathematcs\, or computer science majors. 
X-ALT-DESC;FMTTYPE=text/html:&lt;html&gt;&lt;head&gt;&lt;title&gt;&lt;/title&gt;&lt;/head&gt;&lt;body&gt;&lt;p&gt;&lt;s
 pan&gt;All students who plan to attend the COB or TCM Career Fair must compl
 ete the required Prepare for the Fair Workshop. Workshops for the Fall of
  2023 will be held&amp;nbsp\;&lt;/span&gt;&lt;strong&gt;in person&lt;/strong&gt;&lt;span&gt;.&lt;/span&gt;&lt;
 /p&gt;\n&lt;p&gt;&lt;span&gt;Student must be business\, actuarial mathematcs\, or comput
 er science majors.&amp;nbsp\;&lt;/span&gt;&lt;/p&gt;&lt;/body&gt;&lt;/html&gt;
DTSTART;TZID=America/Chicago:20230828T100000
DTEND;TZID=America/Chicago:20230828T110000
SEQUENCE:0
URL:https://business.missouristate.edu/Career-Fairs.htm
CATEGORIES:Current Students
END:VEVENT
END:VCALENDAR