BEGIN:VCALENDAR
VERSION:2.0
METHOD:PUBLISH
PRODID:-//Missouri State University/Calendar of Events//EN
CALSCALE:GREGORIAN
X-WR-TIMEZONE:America/Chicago
BEGIN:VTIMEZONE
TZID:America/Chicago
BEGIN:DAYLIGHT
TZOFFSETFROM:-0600
TZOFFSETTO:-0500
DTSTART:20070311T020000
RRULE:FREQ=YEARLY;BYMONTH=3;BYDAY=2SU
TZNAME:CDT
END:DAYLIGHT
BEGIN:STANDARD
TZOFFSETFROM:-0500
TZOFFSETTO:-0600
DTSTART:20071104T020000
RRULE:FREQ=YEARLY;BYMONTH=11;BYDAY=1SU
TZNAME:CST
END:STANDARD
END:VTIMEZONE
BEGIN:VEVENT
UID:4fca6237-8a61-4cc8-9350-38fa991f94a5.228721@calendar.missouristate.edu
CREATED:20230725T051502Z
LAST-MODIFIED:20230725T051502Z
LOCATION:Columbia\, Mo.
SUMMARY:Missouri State University Women's Cross Country vs Missouri XC Ope
 ner - 5k | Gans Creek Cross Country Course
DESCRIPTION:Missouri State University Women's Cross Country plays Missouri
  XC Opener - 5k | Gans Creek Cross Country Course
X-ALT-DESC;FMTTYPE=text/html:&lt;html&gt;&lt;head&gt;&lt;title&gt;&lt;/title&gt;&lt;/head&gt;&lt;body&gt;Misso
 uri State University Women's Cross Country plays Missouri XC Opener - 5k 
 | Gans Creek Cross Country Course&lt;/body&gt;&lt;/html&gt;
DTSTART;TZID=America/Chicago:20230901T090000
DTEND;TZID=America/Chicago:20230901T120000
SEQUENCE:0
URL:http://missouristatebears.com/index.aspx?path=wcross
CATEGORIES:Current Students,Future Students,Parents and Family,Alumni,
 Faculty,Staff,Community,Visitors,Athletics
END:VEVENT
END:VCALENDAR