BEGIN:VCALENDAR
VERSION:2.0
METHOD:PUBLISH
PRODID:-//Missouri State University/Calendar of Events//EN
CALSCALE:GREGORIAN
X-WR-TIMEZONE:America/Chicago
BEGIN:VTIMEZONE
TZID:America/Chicago
BEGIN:DAYLIGHT
TZOFFSETFROM:-0600
TZOFFSETTO:-0500
DTSTART:20070311T020000
RRULE:FREQ=YEARLY;BYMONTH=3;BYDAY=2SU
TZNAME:CDT
END:DAYLIGHT
BEGIN:STANDARD
TZOFFSETFROM:-0500
TZOFFSETTO:-0600
DTSTART:20071104T020000
RRULE:FREQ=YEARLY;BYMONTH=11;BYDAY=1SU
TZNAME:CST
END:STANDARD
END:VTIMEZONE
BEGIN:VEVENT
UID:81a8604d-c817-41a6-a1e4-6e758c857975.228723@calendar.missouristate.edu
CREATED:20230725T051504Z
LAST-MODIFIED:20230725T051504Z
LOCATION:Fayetteville\, Ark.
SUMMARY:Missouri State University Women's Cross Country vs Arkansas Chile 
 Pepper Festival - 5k | Agri Park
DESCRIPTION:Missouri State University Women's Cross Country plays Arkansas
  Chile Pepper Festival - 5k | Agri Park
X-ALT-DESC;FMTTYPE=text/html:&lt;html&gt;&lt;head&gt;&lt;title&gt;&lt;/title&gt;&lt;/head&gt;&lt;body&gt;Misso
 uri State University Women's Cross Country plays Arkansas Chile Pepper Fe
 stival - 5k | Agri Park&lt;/body&gt;&lt;/html&gt;
DTSTART;TZID=America/Chicago:20230929T163000
DTEND;TZID=America/Chicago:20230929T193000
SEQUENCE:0
URL:http://missouristatebears.com/index.aspx?path=wcross
CATEGORIES:Current Students,Future Students,Parents and Family,Alumni,
 Faculty,Staff,Community,Visitors,Athletics
END:VEVENT
END:VCALENDAR