BEGIN:VCALENDAR
VERSION:2.0
METHOD:PUBLISH
PRODID:-//Missouri State University/Calendar of Events//EN
CALSCALE:GREGORIAN
X-WR-TIMEZONE:America/Chicago
BEGIN:VTIMEZONE
TZID:America/Chicago
BEGIN:DAYLIGHT
TZOFFSETFROM:-0600
TZOFFSETTO:-0500
DTSTART:20070311T020000
RRULE:FREQ=YEARLY;BYMONTH=3;BYDAY=2SU
TZNAME:CDT
END:DAYLIGHT
BEGIN:STANDARD
TZOFFSETFROM:-0500
TZOFFSETTO:-0600
DTSTART:20071104T020000
RRULE:FREQ=YEARLY;BYMONTH=11;BYDAY=1SU
TZNAME:CST
END:STANDARD
END:VTIMEZONE
BEGIN:VEVENT
UID:1866df62-edf7-49b8-91ef-2266a7d6ea5d.228727@calendar.missouristate.edu
CREATED:20230731T200102Z
LAST-MODIFIED:20230731T200102Z
LOCATION:
SUMMARY:Choral Gala
DESCRIPTION:The Missouri State University Choral Gala will be an elegant e
 vening of celebration and support for the Missouri State University Chora
 l Studies program. All proceeds will go toward supporting the students of
  the choral studies program.\n\n\nThe event will feature spectacular live
  entertainment\, fine drinks and dining at the Hotel Vandivort in downtow
 n Springfield\, silent and live auction items\, and a special performance
  by the Missouri State University Chorale.
X-ALT-DESC;FMTTYPE=text/html:&lt;html&gt;&lt;head&gt;&lt;title&gt;&lt;/title&gt;&lt;/head&gt;&lt;body&gt;&lt;p di
 r="ltr"&gt;The Missouri State University Choral Gala will be an elegant even
 ing of celebration and support for the Missouri State University Choral S
 tudies program. All proceeds will go toward supporting the students of th
 e choral studies program.&lt;/p&gt;\n&lt;p dir="ltr"&gt;The event will feature specta
 cular live entertainment\, fine drinks and dining at the Hotel Vandivort 
 in downtown Springfield\, silent and live auction items\, and a special p
 erformance by the Missouri State University Chorale.&lt;/p&gt;&lt;/body&gt;&lt;/html&gt;
DTSTART;TZID=America/Chicago:20230930T173000
DTEND;TZID=America/Chicago:20230930T210000
SEQUENCE:0
URL:https://www.missouristate.edu/Music/choralgala.htm
CATEGORIES:Public,Alumni,Faculty,Staff
END:VEVENT
END:VCALENDAR