BEGIN:VCALENDAR
VERSION:2.0
METHOD:PUBLISH
PRODID:-//Missouri State University/Calendar of Events//EN
CALSCALE:GREGORIAN
X-WR-TIMEZONE:America/Chicago
BEGIN:VTIMEZONE
TZID:America/Chicago
BEGIN:DAYLIGHT
TZOFFSETFROM:-0600
TZOFFSETTO:-0500
DTSTART:20070311T020000
RRULE:FREQ=YEARLY;BYMONTH=3;BYDAY=2SU
TZNAME:CDT
END:DAYLIGHT
BEGIN:STANDARD
TZOFFSETFROM:-0500
TZOFFSETTO:-0600
DTSTART:20071104T020000
RRULE:FREQ=YEARLY;BYMONTH=11;BYDAY=1SU
TZNAME:CST
END:STANDARD
END:VTIMEZONE
BEGIN:VEVENT
UID:00000000-0000-0000-0000-000000000000.228730@calendar.missouristate.edu
CREATED:20230727T144516Z
LAST-MODIFIED:20230727T144516Z
LOCATION:To Be Determined
SUMMARY:St. Louis Alumni Chapter University Night at Busch Stadium
DESCRIPTION:St. Louis area alumni and friends are invited to join fellow B
 ears on Sunday\, August 20 as the St. Louis Cardinals take on the New Yor
 k Mets at Busch Stadium. All registrants receive a co-branded Cards and B
 ears hat!\n\n\n 
X-ALT-DESC;FMTTYPE=text/html:&lt;html&gt;&lt;head&gt;&lt;title&gt;&lt;/title&gt;&lt;/head&gt;&lt;body&gt;&lt;p&gt;St
 . Louis area alumni and friends are invited to join fellow Bears on Sunda
 y\, August 20 as the St. Louis Cardinals take on the New York Mets at Bus
 ch Stadium.&amp;nbsp\;All registrants receive a co-branded Cards and Bears ha
 t!&lt;/p&gt;\n&lt;p&gt;&amp;nbsp\;&lt;/p&gt;&lt;/body&gt;&lt;/html&gt;
DTSTART;TZID=America/Chicago:20230820T131500
DTEND;TZID=America/Chicago:20230820T170000
SEQUENCE:0
URL:https://missouristate.imodules.com?sid=1691&amp;gid=2&amp;pgid=3234&amp;cid=5605&amp;e
 cid=5605&amp;ciid=19036&amp;crid=0
CATEGORIES:Public,Alumni,Parents and Family,Visitors
END:VEVENT
END:VCALENDAR