BEGIN:VCALENDAR
VERSION:2.0
METHOD:PUBLISH
PRODID:-//Missouri State University/Calendar of Events//EN
CALSCALE:GREGORIAN
X-WR-TIMEZONE:America/Chicago
BEGIN:VTIMEZONE
TZID:America/Chicago
BEGIN:DAYLIGHT
TZOFFSETFROM:-0600
TZOFFSETTO:-0500
DTSTART:20070311T020000
RRULE:FREQ=YEARLY;BYMONTH=3;BYDAY=2SU
TZNAME:CDT
END:DAYLIGHT
BEGIN:STANDARD
TZOFFSETFROM:-0500
TZOFFSETTO:-0600
DTSTART:20071104T020000
RRULE:FREQ=YEARLY;BYMONTH=11;BYDAY=1SU
TZNAME:CST
END:STANDARD
END:VTIMEZONE
BEGIN:VEVENT
UID:ca5cb156-21a9-4739-8044-ae421b9bbd56.228731@calendar.missouristate.edu
CREATED:20230825T224031Z
LAST-MODIFIED:20230825T224031Z
LOCATION:Plaster Free Enterprise Center\, Robert W.
SUMMARY:Managing People\, Processes and Projects
DESCRIPTION:Do you have more to do than you can manage in a 40-hour work w
 eek?Do you feel that if you want something done right you have to do it y
 ourself? Do you find yourself having to “redo” work not done right the fi
 rst time?If you answered yes to these questions\, you could be holding yo
 urself\, your employees and your work group back from reaching maximum po
 tential. By attending this seminar\, you will learn how to improve your s
 kills in delegation\, time management and goal-setting so you can work mo
 re efficiently and effectively.\n\n\nBenefits of attending:Take control o
 f your work day by applying the techniques you learn during this seminar.
  You will feel more confident in knowing how to organize your work and ex
 amine your workload for value-adding qualities.
X-ALT-DESC;FMTTYPE=text/html:&lt;html&gt;&lt;head&gt;&lt;title&gt;&lt;/title&gt;&lt;/head&gt;&lt;body&gt;&lt;p&gt;&lt;s
 pan&gt;Do you have more to do than you can manage in a 40-hour work week?&lt;/s
 pan&gt;&lt;br&gt;&lt;span&gt;Do you feel that if you want something done right you have 
 to do it yourself? &lt;/span&gt;&lt;span&gt;Do you find yourself having to “redo” wor
 k not done right the first time?&lt;/span&gt;&lt;br&gt;&lt;br&gt;&lt;span&gt;If you answered yes 
 to these questions\, you could be holding yourself\, your employees and y
 our work group back from reaching maximum potential. By attending this se
 minar\, you will learn how to improve your skills in delegation\, time ma
 nagement and goal-setting so you can work more efficiently and effectivel
 y.&lt;/span&gt;&lt;/p&gt;\n&lt;p&gt;&lt;span&gt;Benefits of attending:&lt;/span&gt;&lt;br&gt;&lt;span&gt;Take contr
 ol of your work day by applying the techniques you learn during this semi
 nar. You will feel more confident in knowing how to organize your work an
 d examine your workload for value-adding qualities.&lt;/span&gt;&lt;span&gt;&lt;/span&gt;&lt;/
 p&gt;&lt;/body&gt;&lt;/html&gt;
DTSTART;TZID=America/Chicago:20231206T090000
DTEND;TZID=America/Chicago:20231206T160000
SEQUENCE:0
URL:https://missouri.ecenterdirect.com/events/24684
CATEGORIES:Public
END:VEVENT
END:VCALENDAR