BEGIN:VCALENDAR
VERSION:2.0
METHOD:PUBLISH
PRODID:-//Missouri State University/Calendar of Events//EN
CALSCALE:GREGORIAN
X-WR-TIMEZONE:America/Chicago
BEGIN:VTIMEZONE
TZID:America/Chicago
BEGIN:DAYLIGHT
TZOFFSETFROM:-0600
TZOFFSETTO:-0500
DTSTART:20070311T020000
RRULE:FREQ=YEARLY;BYMONTH=3;BYDAY=2SU
TZNAME:CDT
END:DAYLIGHT
BEGIN:STANDARD
TZOFFSETFROM:-0500
TZOFFSETTO:-0600
DTSTART:20071104T020000
RRULE:FREQ=YEARLY;BYMONTH=11;BYDAY=1SU
TZNAME:CST
END:STANDARD
END:VTIMEZONE
BEGIN:VEVENT
UID:2080cd50-c612-48ed-bc5c-fe0be630a217.228734@calendar.missouristate.edu
CREATED:20230731T135241Z
LAST-MODIFIED:20230731T135241Z
LOCATION:Plaster Student Union\, Robert W.
SUMMARY:LDS Informative Booth
DESCRIPTION:This is an informative booth at the PSU for the Book of Mormon.
X-ALT-DESC;FMTTYPE=text/html:&lt;html&gt;&lt;head&gt;&lt;title&gt;&lt;/title&gt;&lt;/head&gt;&lt;body&gt;&lt;p&gt;Th
 is is an informative booth at the PSU for the Book of Mormon.&lt;/p&gt;&lt;/body&gt;&lt;
 /html&gt;
DTSTART;TZID=America/Chicago:20230922T100000
DTEND;TZID=America/Chicago:20230922T120000
SEQUENCE:0
URL:https://calendar.missouristate.edu/viewevent.aspx?eventid=119879&amp;occur
 renceid=228734
CATEGORIES:Public,Current Students
END:VEVENT
END:VCALENDAR