BEGIN:VCALENDAR
VERSION:2.0
METHOD:PUBLISH
PRODID:-//Missouri State University/Calendar of Events//EN
CALSCALE:GREGORIAN
X-WR-TIMEZONE:America/Chicago
BEGIN:VTIMEZONE
TZID:America/Chicago
BEGIN:DAYLIGHT
TZOFFSETFROM:-0600
TZOFFSETTO:-0500
DTSTART:20070311T020000
RRULE:FREQ=YEARLY;BYMONTH=3;BYDAY=2SU
TZNAME:CDT
END:DAYLIGHT
BEGIN:STANDARD
TZOFFSETFROM:-0500
TZOFFSETTO:-0600
DTSTART:20071104T020000
RRULE:FREQ=YEARLY;BYMONTH=11;BYDAY=1SU
TZNAME:CST
END:STANDARD
END:VTIMEZONE
BEGIN:VEVENT
UID:f9344e58-2c80-48f4-b909-d93d6f18b2c4.228737@calendar.missouristate.edu
CREATED:20230731T134847Z
LAST-MODIFIED:20230731T134847Z
LOCATION:
SUMMARY:LDS Interactive Outdoor Chalkboard
DESCRIPTION:This will be an interactive chalkboard for students who may be
  interseted in learning more about the Book of Mormon.
X-ALT-DESC;FMTTYPE=text/html:&lt;html&gt;&lt;head&gt;&lt;title&gt;&lt;/title&gt;&lt;/head&gt;&lt;body&gt;&lt;p&gt;&lt;s
 pan&gt;This will be an interactive chalkboard for students who may be inters
 eted in learning more about the Book of Mormon.&lt;/span&gt;&lt;/p&gt;&lt;/body&gt;&lt;/html&gt;
DTSTART;TZID=America/Chicago:20230915T100000
DTEND;TZID=America/Chicago:20230915T130000
SEQUENCE:0
URL:https://calendar.missouristate.edu/viewevent.aspx?eventid=119882&amp;occur
 renceid=228737
CATEGORIES:Public,Current Students
END:VEVENT
END:VCALENDAR