BEGIN:VCALENDAR
VERSION:2.0
METHOD:PUBLISH
PRODID:-//Missouri State University/Calendar of Events//EN
CALSCALE:GREGORIAN
X-WR-TIMEZONE:America/Chicago
BEGIN:VTIMEZONE
TZID:America/Chicago
BEGIN:DAYLIGHT
TZOFFSETFROM:-0600
TZOFFSETTO:-0500
DTSTART:20070311T020000
RRULE:FREQ=YEARLY;BYMONTH=3;BYDAY=2SU
TZNAME:CDT
END:DAYLIGHT
BEGIN:STANDARD
TZOFFSETFROM:-0500
TZOFFSETTO:-0600
DTSTART:20071104T020000
RRULE:FREQ=YEARLY;BYMONTH=11;BYDAY=1SU
TZNAME:CST
END:STANDARD
END:VTIMEZONE
BEGIN:VEVENT
UID:9ceb157f-c2dc-496e-9db1-75ea260cf60c.228743@calendar.missouristate.edu
CREATED:20230801T051504Z
LAST-MODIFIED:20230801T051504Z
LOCATION:St. Peters\, Mo
SUMMARY:Missouri State University Swimming and Diving at Lindenwood - St. 
 Peters Rec-Plex
DESCRIPTION:Missouri State University Swimming and Diving visits Lindenwoo
 d - St. Peters Rec-Plex
X-ALT-DESC;FMTTYPE=text/html:&lt;html&gt;&lt;head&gt;&lt;title&gt;&lt;/title&gt;&lt;/head&gt;&lt;body&gt;Misso
 uri State University Swimming and Diving visits Lindenwood - St. Peters R
 ec-Plex&lt;/body&gt;&lt;/html&gt;
DTSTART;TZID=America/Chicago:20231006T100000
DTEND;TZID=America/Chicago:20231006T130000
SEQUENCE:2
URL:http://missouristatebears.com/index.aspx?path=swim
CATEGORIES:Current Students,Future Students,Parents and Family,Alumni,
 Faculty,Staff,Community,Visitors,Athletics
END:VEVENT
END:VCALENDAR