BEGIN:VCALENDAR
VERSION:2.0
METHOD:PUBLISH
PRODID:-//Missouri State University/Calendar of Events//EN
CALSCALE:GREGORIAN
X-WR-TIMEZONE:America/Chicago
BEGIN:VTIMEZONE
TZID:America/Chicago
BEGIN:DAYLIGHT
TZOFFSETFROM:-0600
TZOFFSETTO:-0500
DTSTART:20070311T020000
RRULE:FREQ=YEARLY;BYMONTH=3;BYDAY=2SU
TZNAME:CDT
END:DAYLIGHT
BEGIN:STANDARD
TZOFFSETFROM:-0500
TZOFFSETTO:-0600
DTSTART:20071104T020000
RRULE:FREQ=YEARLY;BYMONTH=11;BYDAY=1SU
TZNAME:CST
END:STANDARD
END:VTIMEZONE
BEGIN:VEVENT
UID:00000000-0000-0000-0000-000000000000.228759@calendar.missouristate.edu
CREATED:20230802T154519Z
LAST-MODIFIED:20230802T154519Z
LOCATION:To Be Determined
SUMMARY:Springfield Alumni Chapter Happy Hour Bingo
DESCRIPTION:Join the Springfield Alumni Chapter is for Happy Hour Bingo on
  Aug. 15 at Mother's Brewing Company. Alumni\, friends and family of all 
 ages are invited to catch up with old friends\, meet new people and win e
 xciting prizes.
X-ALT-DESC;FMTTYPE=text/html:&lt;html&gt;&lt;head&gt;&lt;title&gt;&lt;/title&gt;&lt;/head&gt;&lt;body&gt;&lt;p&gt;Jo
 in the Springfield Alumni Chapter is for Happy Hour Bingo on&amp;nbsp\;&lt;stron
 g&gt;Aug. 15&lt;/strong&gt;&amp;nbsp\;at Mother's Brewing Company. Alumni\, friends an
 d family of all ages are invited to catch up with old friends\, meet new 
 people and win exciting prizes.&lt;/p&gt;&lt;/body&gt;&lt;/html&gt;
DTSTART;TZID=America/Chicago:20230815T163000
DTEND;TZID=America/Chicago:20230815T190000
SEQUENCE:0
URL:https://missouristate.imodules.com?sid=1691&amp;gid=2&amp;pgid=3238&amp;cid=5619&amp;e
 cid=5619&amp;ciid=19070&amp;crid=0
CATEGORIES:Public,Alumni,Parents and Family,Visitors
END:VEVENT
END:VCALENDAR