BEGIN:VCALENDAR
VERSION:2.0
METHOD:PUBLISH
PRODID:-//Missouri State University/Calendar of Events//EN
CALSCALE:GREGORIAN
X-WR-TIMEZONE:America/Chicago
BEGIN:VTIMEZONE
TZID:America/Chicago
BEGIN:DAYLIGHT
TZOFFSETFROM:-0600
TZOFFSETTO:-0500
DTSTART:20070311T020000
RRULE:FREQ=YEARLY;BYMONTH=3;BYDAY=2SU
TZNAME:CDT
END:DAYLIGHT
BEGIN:STANDARD
TZOFFSETFROM:-0500
TZOFFSETTO:-0600
DTSTART:20071104T020000
RRULE:FREQ=YEARLY;BYMONTH=11;BYDAY=1SU
TZNAME:CST
END:STANDARD
END:VTIMEZONE
BEGIN:VEVENT
UID:a5689247-3588-45a9-be21-ab1b1d5caeb9.228760@calendar.missouristate.edu
CREATED:20230807T195645Z
LAST-MODIFIED:20230807T195645Z
LOCATION:Plaster Free Enterprise Center\, Robert W. Jay Wasson Idea Loft
SUMMARY:Visiting Artist Lecture: Britt Ransom
DESCRIPTION:Britt Ransom is an artist whose practice and teaching explore 
 conflicts within our shared climate through digital fabrication and insta
 llation processes. Ransom works between New Orleans and Pittsburgh\, wher
 e she is an associate professor of art in sculpture\, installation and si
 te work at Carnegie Mellon University. \n\n\nRansom is the recipient of t
 he Joan Mitchell Center Residency\, Los Angeles Clean Tech Incubator Resi
 dency\, ZERO1 American Arts Incubator Fellowship\, The Hopper Prize\, The
  Artic Circle Residency and many other awards. Her work has been most rec
 ently shown at Honor Fraser in Los Angeles\, Contemporary Art Center New 
 Orleans\, Torrance Art Museum\, Texas Women’s University and the Universi
 ty of Dallas. \n\n\nHer writing has been published in the Leonardo Journa
 l published by MIT Press\, the 3D Additvist Cookbook and the Routledge Ha
 ndbook on Biology in Art\, Architecture and Design.
X-ALT-DESC;FMTTYPE=text/html:&lt;html&gt;&lt;head&gt;&lt;title&gt;&lt;/title&gt;&lt;/head&gt;&lt;body&gt;&lt;p&gt;&lt;s
 pan lang="en-US"&gt;Britt Ransom is an artist&amp;nbsp\;whose practice and teach
 ing explore conflicts within our shared climate through digital fabricati
 on and installation processes.&amp;nbsp\;Ransom works&amp;nbsp\;between New Orlea
 ns and Pittsburgh\,&amp;nbsp\;where she is&amp;nbsp\;an associate professor of ar
 t in sculpture\, installation and site work at Carnegie Mellon University
 . &lt;/span&gt;&lt;/p&gt;\n&lt;p&gt;&lt;span lang="en-US"&gt;Ransom is the recipient of the Joan 
 Mitchell Center Residency\, Los Angeles Clean Tech Incubator Residency\, 
 ZERO1 American Arts Incubator Fellowship\,&amp;nbsp\;The Hopper Prize\,&amp;nbsp\
 ;The Artic Circle Residency and many other awards. Her work has been most
  recently shown at Honor Fraser in Los Angeles\, Contemporary Art Center 
 New Orleans\, Torrance Art Museum\, Texas Women’s University and the Univ
 ersity of Dallas.&amp;nbsp\;&lt;/span&gt;&lt;/p&gt;\n&lt;p&gt;&lt;span lang="en-US"&gt;Her writing ha
 s been published in the Leonardo Journal published by MIT Press\, the 3D&amp;
 nbsp\;Additvist&amp;nbsp\;Cookbook and the Routledge Handbook on Biology in A
 rt\, Architecture and Design.&lt;/span&gt;&lt;/p&gt;&lt;/body&gt;&lt;/html&gt;
DTSTART;TZID=America/Chicago:20230918T173000
DTEND;TZID=America/Chicago:20230918T183000
SEQUENCE:1
URL:119904.png
CATEGORIES:Public,Alumni,Current Students,Faculty,Future Students,Staff
END:VEVENT
END:VCALENDAR