BEGIN:VCALENDAR
VERSION:2.0
METHOD:PUBLISH
PRODID:-//Missouri State University/Calendar of Events//EN
CALSCALE:GREGORIAN
X-WR-TIMEZONE:America/Chicago
BEGIN:VTIMEZONE
TZID:America/Chicago
BEGIN:DAYLIGHT
TZOFFSETFROM:-0600
TZOFFSETTO:-0500
DTSTART:20070311T020000
RRULE:FREQ=YEARLY;BYMONTH=3;BYDAY=2SU
TZNAME:CDT
END:DAYLIGHT
BEGIN:STANDARD
TZOFFSETFROM:-0500
TZOFFSETTO:-0600
DTSTART:20071104T020000
RRULE:FREQ=YEARLY;BYMONTH=11;BYDAY=1SU
TZNAME:CST
END:STANDARD
END:VTIMEZONE
BEGIN:VEVENT
UID:306c4f9f-ae38-4963-8520-ebb297a16d7c.228843@calendar.missouristate.edu
CREATED:20230817T011302Z
LAST-MODIFIED:20230817T011302Z
LOCATION:West Plains Civic Center Theatre
SUMMARY:Comedy Show
DESCRIPTION:Comedian\, Jessi Campbell\n\n\nWest Plains Civic Center Theatr
 eDoors open at 6:00 P.M.Show Sarts at 7:00 P.M.
X-ALT-DESC;FMTTYPE=text/html:&lt;html&gt;&lt;head&gt;&lt;title&gt;&lt;/title&gt;&lt;/head&gt;&lt;body&gt;&lt;p&gt;Co
 median\, Jessi Campbell&lt;/p&gt;\n&lt;p&gt;West Plains Civic Center Theatre&lt;br&gt;Doors
  open at 6:00 P.M.&lt;br&gt;Show Sarts at 7:00 P.M.&lt;/p&gt;&lt;/body&gt;&lt;/html&gt;
DTSTART;TZID=America/Chicago:20230822T190000
DTEND;TZID=America/Chicago:20230822T200000
SEQUENCE:1
URL:119935.jpg
CATEGORIES:Public,Alumni,Current Students,Faculty,Future Students,Staff
END:VEVENT
END:VCALENDAR