BEGIN:VCALENDAR
VERSION:2.0
METHOD:PUBLISH
PRODID:-//Missouri State University/Calendar of Events//EN
CALSCALE:GREGORIAN
X-WR-TIMEZONE:America/Chicago
BEGIN:VTIMEZONE
TZID:America/Chicago
BEGIN:DAYLIGHT
TZOFFSETFROM:-0600
TZOFFSETTO:-0500
DTSTART:20070311T020000
RRULE:FREQ=YEARLY;BYMONTH=3;BYDAY=2SU
TZNAME:CDT
END:DAYLIGHT
BEGIN:STANDARD
TZOFFSETFROM:-0500
TZOFFSETTO:-0600
DTSTART:20071104T020000
RRULE:FREQ=YEARLY;BYMONTH=11;BYDAY=1SU
TZNAME:CST
END:STANDARD
END:VTIMEZONE
BEGIN:VEVENT
UID:00000000-0000-0000-0000-000000000000.228845@calendar.missouristate.edu
CREATED:20230809T144523Z
LAST-MODIFIED:20230809T144523Z
LOCATION:To Be Determined
SUMMARY:Springfield Alumni Chapter Tailgate
DESCRIPTION:Break out your BearWear to show your #BearPride and join fello
 w Bears fans of the Springfield Alumni Chapter for a tailgate party on Se
 ptember 23. Fuel up on brats\, bring your own drinks and enjoy tailgate g
 ames. Then\, head to Plaster Stadium across the street to cheer on our Be
 ars as they take on the UT Trailblazers.
X-ALT-DESC;FMTTYPE=text/html:&lt;html&gt;&lt;head&gt;&lt;title&gt;&lt;/title&gt;&lt;/head&gt;&lt;body&gt;&lt;p&gt;Br
 eak out your BearWear to show your #BearPride and join fellow Bears fans 
 of the Springfield Alumni Chapter for a tailgate party&amp;nbsp\;on September
  23.&amp;nbsp\;Fuel up on brats\, bring your own drinks and enjoy tailgate ga
 mes. Then\, head to Plaster Stadium across the street to cheer on our Bea
 rs as they take on the UT Trailblazers.&lt;/p&gt;&lt;/body&gt;&lt;/html&gt;
DTSTART;TZID=America/Chicago:20230923T120000
DTEND;TZID=America/Chicago:20230923T140000
SEQUENCE:0
URL:https://missouristate.imodules.com?sid=1691&amp;gid=2&amp;pgid=3260&amp;cid=5655&amp;e
 cid=5655&amp;ciid=19636&amp;crid=0
CATEGORIES:Public,Alumni,Parents and Family,Visitors
END:VEVENT
END:VCALENDAR