BEGIN:VCALENDAR
VERSION:2.0
METHOD:PUBLISH
PRODID:-//Missouri State University/Calendar of Events//EN
CALSCALE:GREGORIAN
X-WR-TIMEZONE:America/Chicago
BEGIN:VTIMEZONE
TZID:America/Chicago
BEGIN:DAYLIGHT
TZOFFSETFROM:-0600
TZOFFSETTO:-0500
DTSTART:20070311T020000
RRULE:FREQ=YEARLY;BYMONTH=3;BYDAY=2SU
TZNAME:CDT
END:DAYLIGHT
BEGIN:STANDARD
TZOFFSETFROM:-0500
TZOFFSETTO:-0600
DTSTART:20071104T020000
RRULE:FREQ=YEARLY;BYMONTH=11;BYDAY=1SU
TZNAME:CST
END:STANDARD
END:VTIMEZONE
BEGIN:VEVENT
UID:552b241a-5849-4f7e-b445-3068f152ceeb.228848@calendar.missouristate.edu
CREATED:20230819T222850Z
LAST-MODIFIED:20230819T222850Z
LOCATION:Karls Hall 101
SUMMARY:Peace Corps Prep Film and Discussion Event
DESCRIPTION:Attend the fall Missouri State University Peace Corps Prep cer
 tificate program event.\n\n\nView the documentary\, A Towering Task: The 
 Story of the Peace Corps\, and meet the documentary filmmaker\, Alana DeJ
 oseph\, an RPCV who served in Mali\, to discuss the film and Peace Corps 
 Service.\n\n\nOfficial Trailer: A Towering Task: The Story of the Peace C
 orps\n\n\nNo registration is required.\n\n\nSponsors: Department of Commu
 nication\, Media\, Journalism and Film\; Community and Global Partnership
 s\; College of Natural and Applied Sciences\; and Department of Sociology
 \, Anthropology and Gerontology.
X-ALT-DESC;FMTTYPE=text/html:&lt;html&gt;&lt;head&gt;&lt;title&gt;&lt;/title&gt;&lt;/head&gt;&lt;body&gt;&lt;p&gt;At
 tend the fall Missouri State University Peace Corps Prep certificate prog
 ram event.&lt;/p&gt;\n&lt;p&gt;View the documentary\, A Towering Task: The Story of t
 he Peace Corps\, and meet the documentary filmmaker\, Alana DeJoseph\, an
  RPCV who served in Mali\, to discuss the film and Peace Corps Service.&lt;/
 p&gt;\n&lt;p&gt;Official Trailer: &lt;a href="https://www.youtube.com/watch?v=WMh31k-
 EDXM" title="A Towering Task: The Story of the Peace Corps"&gt;A Towering Ta
 sk: The Story of the Peace Corps&lt;/a&gt;&lt;/p&gt;\n&lt;p&gt;No registration is required.
 &lt;/p&gt;\n&lt;p&gt;&lt;strong&gt;Sponsors&lt;/strong&gt;: Department of Communication\, Media\,
  Journalism and Film\; Community and Global Partnerships\; College of Nat
 ural and Applied Sciences\; and Department of Sociology\, Anthropology an
 d Gerontology.&lt;/p&gt;&lt;/body&gt;&lt;/html&gt;
DTSTART;TZID=America/Chicago:20230925T160000
DTEND;TZID=America/Chicago:20230925T180000
SEQUENCE:0
URL:https://www.missouristate.edu/SAG/PeaceCorpsPrep/default.htm
CATEGORIES:Public,Alumni,Current Students,Faculty,Future Students,Staff
END:VEVENT
END:VCALENDAR