BEGIN:VCALENDAR
VERSION:2.0
METHOD:PUBLISH
PRODID:-//Missouri State University/Calendar of Events//EN
CALSCALE:GREGORIAN
X-WR-TIMEZONE:America/Chicago
BEGIN:VTIMEZONE
TZID:America/Chicago
BEGIN:DAYLIGHT
TZOFFSETFROM:-0600
TZOFFSETTO:-0500
DTSTART:20070311T020000
RRULE:FREQ=YEARLY;BYMONTH=3;BYDAY=2SU
TZNAME:CDT
END:DAYLIGHT
BEGIN:STANDARD
TZOFFSETFROM:-0500
TZOFFSETTO:-0600
DTSTART:20071104T020000
RRULE:FREQ=YEARLY;BYMONTH=11;BYDAY=1SU
TZNAME:CST
END:STANDARD
END:VTIMEZONE
BEGIN:VEVENT
UID:bdb43d52-e899-48a0-bf3e-7045d366343a.228849@calendar.missouristate.edu
CREATED:20230810T163631Z
LAST-MODIFIED:20230810T163631Z
LOCATION:Plaster Stadium\, Robert W.
SUMMARY:Concert-on-the-Green
DESCRIPTION:Join the Pride Marching Band for the annual "Concert-on-the-Gr
 een."  The concert is an opportunity to get a "sneak peek" of what is in 
 store for the season. The concert is free and open to the public.
X-ALT-DESC;FMTTYPE=text/html:&lt;html&gt;&lt;head&gt;&lt;title&gt;&lt;/title&gt;&lt;/head&gt;&lt;body&gt;&lt;p&gt;Jo
 in the Pride Marching Band for the annual "Concert-on-the-Green."&amp;nbsp\; 
 The concert is an opportunity to get a "sneak peek" of what is in store f
 or the season. The concert is free and open to the public.&lt;/p&gt;&lt;/body&gt;&lt;/ht
 ml&gt;
DTSTART;TZID=America/Chicago:20230820T190000
DTEND;TZID=America/Chicago:20230820T200000
SEQUENCE:0
URL:119941.jpg
CATEGORIES:Public,Alumni,Current Students,Faculty,Future Students,Staff
END:VEVENT
END:VCALENDAR