BEGIN:VCALENDAR
VERSION:2.0
METHOD:PUBLISH
PRODID:-//Missouri State University/Calendar of Events//EN
CALSCALE:GREGORIAN
X-WR-TIMEZONE:America/Chicago
BEGIN:VTIMEZONE
TZID:America/Chicago
BEGIN:DAYLIGHT
TZOFFSETFROM:-0600
TZOFFSETTO:-0500
DTSTART:20070311T020000
RRULE:FREQ=YEARLY;BYMONTH=3;BYDAY=2SU
TZNAME:CDT
END:DAYLIGHT
BEGIN:STANDARD
TZOFFSETFROM:-0500
TZOFFSETTO:-0600
DTSTART:20071104T020000
RRULE:FREQ=YEARLY;BYMONTH=11;BYDAY=1SU
TZNAME:CST
END:STANDARD
END:VTIMEZONE
BEGIN:VEVENT
UID:00000000-0000-0000-0000-000000000000.228850@calendar.missouristate.edu
CREATED:20230810T144604Z
LAST-MODIFIED:20230810T144604Z
LOCATION:Kentwood Hall Crystal Ballroom
SUMMARY:Class of 1973 50th Reunion
DESCRIPTION:The Missouri State University AlumniAssociation and the Class 
 of 1973 Reunion Committee cordially invite you to join classmates to reki
 ndle college memories at your Golden Anniversary Celebration on October 2
 0\, 2023.\n\n\n 
X-ALT-DESC;FMTTYPE=text/html:&lt;html&gt;&lt;head&gt;&lt;title&gt;&lt;/title&gt;&lt;/head&gt;&lt;body&gt;&lt;p&gt;Th
 e Missouri State University AlumniAssociation and the Class of 1973 Reuni
 on Committee cordially invite you to join classmates to rekindle college 
 memories at your Golden Anniversary Celebration on October 20\, 2023.&lt;/p&gt;
 \n&lt;p&gt;&amp;nbsp\;&lt;/p&gt;&lt;/body&gt;&lt;/html&gt;
DTSTART;TZID=America/Chicago:20231020T103000
DTEND;TZID=America/Chicago:20231020T143000
SEQUENCE:2
URL:https://missouristate.imodules.com?sid=1691&amp;gid=2&amp;pgid=3213&amp;cid=5573&amp;e
 cid=5573&amp;ciid=19897&amp;crid=0
CATEGORIES:Public,Alumni,Parents and Family,Visitors
END:VEVENT
END:VCALENDAR