BEGIN:VCALENDAR
VERSION:2.0
METHOD:PUBLISH
PRODID:-//Missouri State University/Calendar of Events//EN
CALSCALE:GREGORIAN
X-WR-TIMEZONE:America/Chicago
BEGIN:VTIMEZONE
TZID:America/Chicago
BEGIN:DAYLIGHT
TZOFFSETFROM:-0600
TZOFFSETTO:-0500
DTSTART:20070311T020000
RRULE:FREQ=YEARLY;BYMONTH=3;BYDAY=2SU
TZNAME:CDT
END:DAYLIGHT
BEGIN:STANDARD
TZOFFSETFROM:-0500
TZOFFSETTO:-0600
DTSTART:20071104T020000
RRULE:FREQ=YEARLY;BYMONTH=11;BYDAY=1SU
TZNAME:CST
END:STANDARD
END:VTIMEZONE
BEGIN:VEVENT
UID:b81a5f96-f92f-4bab-8ed6-192af43f9ac0.228852@calendar.missouristate.edu
CREATED:20230825T223910Z
LAST-MODIFIED:20230825T223910Z
LOCATION:Plaster Free Enterprise Center\, Robert W.
SUMMARY:Introduction to Grant Writing
DESCRIPTION:As a seasoned grant writer or newcomer\, you will practice the
  essentials of writing grant proposals in this interactive and creative w
 orkshop.You will learn everything from how to write\, research and locate
  funding sources to where to find grant writing tips and tutorials that h
 ave taken years of expertise to cultivate. This includes where to find gr
 ant opportunities\, how to select the best fits for funding\, how to orga
 nize and present program information\, and methods for evaluating a grant
  program’s success.Let our insight into the vast resources\, grant search
 \, and grant writing strategies benefit your organization.
X-ALT-DESC;FMTTYPE=text/html:&lt;html&gt;&lt;head&gt;&lt;title&gt;&lt;/title&gt;&lt;/head&gt;&lt;body&gt;&lt;p&gt;&lt;s
 pan&gt;As a seasoned grant writer or newcomer\, you will practice the essent
 ials of writing grant proposals in this interactive and creative workshop
 .&lt;/span&gt;&lt;br&gt;&lt;br&gt;&lt;span&gt;You will learn everything from how to write\, resea
 rch and locate funding sources to where to find grant writing tips and tu
 torials that have taken years of expertise to cultivate. This includes wh
 ere to find grant opportunities\, how to select the best fits for funding
 \, how to organize and present program information\, and methods for eval
 uating a grant program’s success.&lt;/span&gt;&lt;br&gt;&lt;br&gt;&lt;span&gt;Let our insight int
 o the vast resources\, grant search\, and grant writing strategies benefi
 t your organization.&lt;/span&gt;&lt;/p&gt;&lt;/body&gt;&lt;/html&gt;
DTSTART;TZID=America/Chicago:20240322T090000
DTEND;TZID=America/Chicago:20240322T163000
SEQUENCE:1
URL:https://missouri.ecenterdirect.com/events/24693
CATEGORIES:Public
END:VEVENT
END:VCALENDAR