BEGIN:VCALENDAR
VERSION:2.0
METHOD:PUBLISH
PRODID:-//Missouri State University/Calendar of Events//EN
CALSCALE:GREGORIAN
X-WR-TIMEZONE:America/Chicago
BEGIN:VTIMEZONE
TZID:America/Chicago
BEGIN:DAYLIGHT
TZOFFSETFROM:-0600
TZOFFSETTO:-0500
DTSTART:20070311T020000
RRULE:FREQ=YEARLY;BYMONTH=3;BYDAY=2SU
TZNAME:CDT
END:DAYLIGHT
BEGIN:STANDARD
TZOFFSETFROM:-0500
TZOFFSETTO:-0600
DTSTART:20071104T020000
RRULE:FREQ=YEARLY;BYMONTH=11;BYDAY=1SU
TZNAME:CST
END:STANDARD
END:VTIMEZONE
BEGIN:VEVENT
UID:00000000-0000-0000-0000-000000000000.228854@calendar.missouristate.edu
CREATED:20230814T174530Z
LAST-MODIFIED:20230814T174530Z
LOCATION:To Be Determined
SUMMARY:Latino Alumni Network Virtual Happy Hour
DESCRIPTION:Join the Latino Alumni Network for a virtual happy hour on Thu
 rsday\, September 21 via Zoom. Celebrate Latino/a/x Heritage Month and le
 arn more about Homecoming activities.
X-ALT-DESC;FMTTYPE=text/html:&lt;html&gt;&lt;head&gt;&lt;title&gt;&lt;/title&gt;&lt;/head&gt;&lt;body&gt;Join 
 the Latino Alumni Network for a virtual happy hour on Thursday\, Septembe
 r 21 via Zoom. Celebrate Latino/a/x Heritage Month and learn more about H
 omecoming activities.&lt;/body&gt;&lt;/html&gt;
DTSTART;TZID=America/Chicago:20230921T180000
DTEND;TZID=America/Chicago:20230921T193000
SEQUENCE:0
URL:https://missouristate.imodules.com?sid=1691&amp;gid=2&amp;pgid=3269&amp;cid=5672&amp;e
 cid=5672&amp;ciid=19559&amp;crid=0
CATEGORIES:Public,Alumni,Parents and Family,Visitors
END:VEVENT
END:VCALENDAR