BEGIN:VCALENDAR
VERSION:2.0
METHOD:PUBLISH
PRODID:-//Missouri State University/Calendar of Events//EN
CALSCALE:GREGORIAN
X-WR-TIMEZONE:America/Chicago
BEGIN:VTIMEZONE
TZID:America/Chicago
BEGIN:DAYLIGHT
TZOFFSETFROM:-0600
TZOFFSETTO:-0500
DTSTART:20070311T020000
RRULE:FREQ=YEARLY;BYMONTH=3;BYDAY=2SU
TZNAME:CDT
END:DAYLIGHT
BEGIN:STANDARD
TZOFFSETFROM:-0500
TZOFFSETTO:-0600
DTSTART:20071104T020000
RRULE:FREQ=YEARLY;BYMONTH=11;BYDAY=1SU
TZNAME:CST
END:STANDARD
END:VTIMEZONE
BEGIN:VEVENT
UID:47663f58-f979-4b9e-8263-7f064839a8a6.228855@calendar.missouristate.edu
CREATED:20230814T201603Z
LAST-MODIFIED:20230814T201603Z
LOCATION:Plaster Student Union\, Robert W. Theatre
SUMMARY:New Graduate Student Orientation
DESCRIPTION:This is a half-day orientation session for new graduate studen
 ts.
X-ALT-DESC;FMTTYPE=text/html:&lt;html&gt;&lt;head&gt;&lt;title&gt;&lt;/title&gt;&lt;/head&gt;&lt;body&gt;&lt;p&gt;Th
 is is a half-day orientation session for new graduate students.&lt;/p&gt;&lt;/body
 &gt;&lt;/html&gt;
DTSTART;TZID=America/Chicago:20240813T080000
DTEND;TZID=America/Chicago:20240813T120000
SEQUENCE:0
URL:https://graduate.missouristate.edu/CurrentStudents/Orientations.htm
CATEGORIES:Current Students,Future Students
END:VEVENT
END:VCALENDAR