BEGIN:VCALENDAR
VERSION:2.0
METHOD:PUBLISH
PRODID:-//Missouri State University/Calendar of Events//EN
CALSCALE:GREGORIAN
X-WR-TIMEZONE:America/Chicago
BEGIN:VTIMEZONE
TZID:America/Chicago
BEGIN:DAYLIGHT
TZOFFSETFROM:-0600
TZOFFSETTO:-0500
DTSTART:20070311T020000
RRULE:FREQ=YEARLY;BYMONTH=3;BYDAY=2SU
TZNAME:CDT
END:DAYLIGHT
BEGIN:STANDARD
TZOFFSETFROM:-0500
TZOFFSETTO:-0600
DTSTART:20071104T020000
RRULE:FREQ=YEARLY;BYMONTH=11;BYDAY=1SU
TZNAME:CST
END:STANDARD
END:VTIMEZONE
BEGIN:VEVENT
UID:1b448d89-3391-4b74-a96e-190836b33aa8.228856@calendar.missouristate.edu
CREATED:20230814T202928Z
LAST-MODIFIED:20230814T202928Z
LOCATION:Plaster Free Enterprise Center\, Robert W. Ballroom West
SUMMARY:New Graduate Teaching Assistant Training and Orientation
DESCRIPTION:All new graduate teaching assistants are required to attend th
 e training.  If you have attended a training in the past and want to chec
 k if you need to register for the FA2024 New Graduate Teaching Assistant 
 Orientation\, please contact the Graduate College at 417-836-5335.
X-ALT-DESC;FMTTYPE=text/html:&lt;html&gt;&lt;head&gt;&lt;title&gt;&lt;/title&gt;&lt;/head&gt;&lt;body&gt;&lt;p&gt;Al
 l new graduate teaching assistants are required to attend the training.&amp;n
 bsp\; If you have attended a training in the past and want to check if yo
 u need to register for the FA2024 New Graduate Teaching Assistant Orienta
 tion\, please contact the Graduate College at 417-836-5335.&lt;/p&gt;&lt;/body&gt;&lt;/h
 tml&gt;
DTSTART;TZID=America/Chicago:20240812T080000
DTEND;TZID=America/Chicago:20240812T170000
SEQUENCE:0
URL:https://graduate.missouristate.edu/CurrentStudents/Orientations.htm
CATEGORIES:Current Students
END:VEVENT
END:VCALENDAR