BEGIN:VCALENDAR
VERSION:2.0
METHOD:PUBLISH
PRODID:-//Missouri State University/Calendar of Events//EN
CALSCALE:GREGORIAN
X-WR-TIMEZONE:America/Chicago
BEGIN:VTIMEZONE
TZID:America/Chicago
BEGIN:DAYLIGHT
TZOFFSETFROM:-0600
TZOFFSETTO:-0500
DTSTART:20070311T020000
RRULE:FREQ=YEARLY;BYMONTH=3;BYDAY=2SU
TZNAME:CDT
END:DAYLIGHT
BEGIN:STANDARD
TZOFFSETFROM:-0500
TZOFFSETTO:-0600
DTSTART:20071104T020000
RRULE:FREQ=YEARLY;BYMONTH=11;BYDAY=1SU
TZNAME:CST
END:STANDARD
END:VTIMEZONE
BEGIN:VEVENT
UID:1e6b5192-00f6-40b2-a21b-9c017b50b183.228858@calendar.missouristate.edu
CREATED:20230825T214836Z
LAST-MODIFIED:20230825T214836Z
LOCATION:Plaster Free Enterprise Center\, Robert W.
SUMMARY:Concept to Checkout: Start Selling Online
DESCRIPTION:Eager to enhance your e-commerce platform and start selling on
 line? This course can help you master the art of creating an online sales
  strategy.You’ll learn the fundamentals of online sales and find the mark
 etplaces that fit your business best. More than that\, you’ll discover be
 st practices for captivating your customers through engaging product list
 ings\, design necessities and web standards. With this knowledge\, you’ll
  be able to boost your business through online sales.Topics include:\n\n\
 n• Understanding the major online selling platforms• Choosing the best on
 line marketplace for your business• Designing an online store• Driving tr
 affic to your website• Creating product listings that sell
X-ALT-DESC;FMTTYPE=text/html:&lt;html&gt;&lt;head&gt;&lt;title&gt;&lt;/title&gt;&lt;/head&gt;&lt;body&gt;&lt;p&gt;&lt;s
 pan&gt;Eager to enhance your e-commerce platform and start selling online? T
 his course can help you master the art of creating an online sales strate
 gy.&lt;/span&gt;&lt;br&gt;&lt;br&gt;&lt;span&gt;You’ll learn the fundamentals of online sales and
  find the marketplaces that fit your business best. More than that\, you’
 ll discover best practices for captivating your customers through engagin
 g product listings\, design necessities and web standards. With this know
 ledge\, you’ll be able to boost your business through online sales.&lt;/span
 &gt;&lt;br&gt;&lt;br&gt;&lt;b&gt;Topics include:&lt;/b&gt;&lt;/p&gt;\n&lt;p&gt;&lt;span&gt;• Understanding the major o
 nline selling platforms&lt;/span&gt;&lt;br&gt;&lt;span&gt;• Choosing the best online market
 place for your business&lt;/span&gt;&lt;br&gt;&lt;span&gt;• Designing an online store&lt;/span
 &gt;&lt;br&gt;&lt;span&gt;• Driving traffic to your website&lt;/span&gt;&lt;br&gt;&lt;span&gt;• Creating p
 roduct listings that sell&lt;/span&gt;&lt;/p&gt;&lt;/body&gt;&lt;/html&gt;
DTSTART;TZID=America/Chicago:20231101T140000
DTEND;TZID=America/Chicago:20231101T170000
SEQUENCE:0
URL:https://missouri.ecenterdirect.com/events/24720
CATEGORIES:Public
END:VEVENT
END:VCALENDAR