BEGIN:VCALENDAR
VERSION:2.0
METHOD:PUBLISH
PRODID:-//Missouri State University/Calendar of Events//EN
CALSCALE:GREGORIAN
X-WR-TIMEZONE:America/Chicago
BEGIN:VTIMEZONE
TZID:America/Chicago
BEGIN:DAYLIGHT
TZOFFSETFROM:-0600
TZOFFSETTO:-0500
DTSTART:20070311T020000
RRULE:FREQ=YEARLY;BYMONTH=3;BYDAY=2SU
TZNAME:CDT
END:DAYLIGHT
BEGIN:STANDARD
TZOFFSETFROM:-0500
TZOFFSETTO:-0600
DTSTART:20071104T020000
RRULE:FREQ=YEARLY;BYMONTH=11;BYDAY=1SU
TZNAME:CST
END:STANDARD
END:VTIMEZONE
BEGIN:VEVENT
UID:023921be-ef89-4543-bd1c-9508e4f50275.228957@calendar.missouristate.edu
CREATED:20230816T154704Z
LAST-MODIFIED:20230816T154704Z
LOCATION:
SUMMARY:CNAS Student Expo
DESCRIPTION:Come meet all the student organizations in the College of Natu
 ral and Applied Sciences as they gather in the same space and you can exp
 lore them while meeting other STEM students.\n\n\nWith so many options\, 
 you’re bound to find the right fit for you.
X-ALT-DESC;FMTTYPE=text/html:&lt;html&gt;&lt;head&gt;&lt;title&gt;&lt;/title&gt;&lt;/head&gt;&lt;body&gt;&lt;p&gt;Co
 me meet all the student organizations in the College of Natural and Appli
 ed Sciences as they gather in the same space and you can explore them whi
 le meeting other STEM students.&lt;/p&gt;\n&lt;p&gt;With so many options\, you’re bou
 nd to find the right fit for you.&lt;/p&gt;&lt;/body&gt;&lt;/html&gt;
DTSTART;TZID=America/Chicago:20230913T130000
DTEND;TZID=America/Chicago:20230913T150000
SEQUENCE:0
URL:https://science.missouristate.edu/Students/#expo
CATEGORIES:Current Students,Faculty,Staff
END:VEVENT
END:VCALENDAR