BEGIN:VCALENDAR
VERSION:2.0
METHOD:PUBLISH
PRODID:-//Missouri State University/Calendar of Events//EN
CALSCALE:GREGORIAN
X-WR-TIMEZONE:America/Chicago
BEGIN:VTIMEZONE
TZID:America/Chicago
BEGIN:DAYLIGHT
TZOFFSETFROM:-0600
TZOFFSETTO:-0500
DTSTART:20070311T020000
RRULE:FREQ=YEARLY;BYMONTH=3;BYDAY=2SU
TZNAME:CDT
END:DAYLIGHT
BEGIN:STANDARD
TZOFFSETFROM:-0500
TZOFFSETTO:-0600
DTSTART:20071104T020000
RRULE:FREQ=YEARLY;BYMONTH=11;BYDAY=1SU
TZNAME:CST
END:STANDARD
END:VTIMEZONE
BEGIN:VEVENT
UID:e88c91d5-e3aa-4c04-b5bc-69efff77a7fa.229002@calendar.missouristate.edu
CREATED:20230824T192953Z
LAST-MODIFIED:20230824T192953Z
LOCATION:Cheek Hall 102
SUMMARY:Creative Writing Professor Reads From His New Story Collection
DESCRIPTION:Missouri State University creative writing professor Michael C
 zyzniejewski will be reading from his fourth collection of short stories\
 , The Amnesiac in the Maze. The reading will be followed by a reception a
 t Pagination Bookshop at 1150 E. Walnut St. in Springfield\, where refres
 hments will be provided.\n\n\nBooks will be for sale at both venues and t
 he author will sign and answers questions after. The event is sponsored b
 y the Department of English at MSU and is free and open to the public.
X-ALT-DESC;FMTTYPE=text/html:&lt;html&gt;&lt;head&gt;&lt;title&gt;&lt;/title&gt;&lt;/head&gt;&lt;body&gt;&lt;p&gt;&lt;s
 trong&gt;&lt;/strong&gt;Missouri State University creative writing professor Micha
 el Czyzniejewski will be reading from his fourth collection of short stor
 ies\,&amp;nbsp\;&lt;em&gt;The Amnesiac in the Maze&lt;/em&gt;. The reading will be follow
 ed by a reception at Pagination Bookshop at 1150 E. Walnut St. in Springf
 ield\, where refreshments will be provided.&lt;/p&gt;\n&lt;p&gt;Books will be for sal
 e at both venues and the author will sign and answers questions after. Th
 e event is sponsored by the Department of English at MSU and is free and 
 open to the public.&lt;/p&gt;&lt;/body&gt;&lt;/html&gt;
DTSTART;TZID=America/Chicago:20230831T190000
DTEND;TZID=America/Chicago:20230831T203000
SEQUENCE:0
URL:https://blogs.missouristate.edu/reynolds/2023/08/24/award-winning-auth
 or-czyniejewski-to-read-from-latest-work-august-31/
CATEGORIES:Public
END:VEVENT
END:VCALENDAR