BEGIN:VCALENDAR
VERSION:2.0
METHOD:PUBLISH
PRODID:-//Missouri State University/Calendar of Events//EN
CALSCALE:GREGORIAN
X-WR-TIMEZONE:America/Chicago
BEGIN:VTIMEZONE
TZID:America/Chicago
BEGIN:DAYLIGHT
TZOFFSETFROM:-0600
TZOFFSETTO:-0500
DTSTART:20070311T020000
RRULE:FREQ=YEARLY;BYMONTH=3;BYDAY=2SU
TZNAME:CDT
END:DAYLIGHT
BEGIN:STANDARD
TZOFFSETFROM:-0500
TZOFFSETTO:-0600
DTSTART:20071104T020000
RRULE:FREQ=YEARLY;BYMONTH=11;BYDAY=1SU
TZNAME:CST
END:STANDARD
END:VTIMEZONE
BEGIN:VEVENT
UID:c0553bf6-c44e-4b92-9f90-6dbea05c6a48.229003@calendar.missouristate.edu
CREATED:20230825T224729Z
LAST-MODIFIED:20230825T224729Z
LOCATION:Plaster Free Enterprise Center\, Robert W.
SUMMARY:The Effective Leader
DESCRIPTION:Increasingly\, organizations are realizing the need for leader
 ship at all levels. Because people want to be led\, not managed\, manager
 s need to develop as leaders in addition to being highly competent in fun
 ctional management areas. There is an impressive body of knowledge regard
 ing leadership and the skills needed to be an effective leader. The Effec
 tive Leader/Manager will address five key areas of managerial effectivene
 ss.This course is designed around the Management Competency Model based o
 n The Leadership Challenge model by Kouzes and Posner.
X-ALT-DESC;FMTTYPE=text/html:&lt;html&gt;&lt;head&gt;&lt;title&gt;&lt;/title&gt;&lt;/head&gt;&lt;body&gt;&lt;p&gt;In
 creasingly\, organizations are realizing the need for leadership at all l
 evels. Because people want to be led\, not managed\, managers need to dev
 elop as leaders in addition to being highly competent in functional manag
 ement areas. There is an impressive body of knowledge regarding leadershi
 p and the skills needed to be an effective leader. The Effective Leader/M
 anager will address five key areas of managerial effectiveness.&lt;br&gt;&lt;br&gt;Th
 is course is designed around the Management Competency Model based on The
  Leadership Challenge model by Kouzes and Posner.&lt;/p&gt;&lt;/body&gt;&lt;/html&gt;
DTSTART;TZID=America/Chicago:20231031T090000
DTEND;TZID=America/Chicago:20231031T160000
SEQUENCE:0
URL:https://missouri.ecenterdirect.com/events/24721
CATEGORIES:Public
END:VEVENT
END:VCALENDAR