BEGIN:VCALENDAR
VERSION:2.0
METHOD:PUBLISH
PRODID:-//Missouri State University/Calendar of Events//EN
CALSCALE:GREGORIAN
X-WR-TIMEZONE:America/Chicago
BEGIN:VTIMEZONE
TZID:America/Chicago
BEGIN:DAYLIGHT
TZOFFSETFROM:-0600
TZOFFSETTO:-0500
DTSTART:20070311T020000
RRULE:FREQ=YEARLY;BYMONTH=3;BYDAY=2SU
TZNAME:CDT
END:DAYLIGHT
BEGIN:STANDARD
TZOFFSETFROM:-0500
TZOFFSETTO:-0600
DTSTART:20071104T020000
RRULE:FREQ=YEARLY;BYMONTH=11;BYDAY=1SU
TZNAME:CST
END:STANDARD
END:VTIMEZONE
BEGIN:VEVENT
UID:064cf5fe-b168-4dcd-9e0e-f7fb0138d4b4.229004@calendar.missouristate.edu
CREATED:20230824T211459Z
LAST-MODIFIED:20230824T211459Z
LOCATION:Plaster Free Enterprise Center\, Robert W. efactory - FORVIS Room
SUMMARY:Innovation Accelerator Event Prep and Q&amp;A
DESCRIPTION:Want to attend the Innovation Accelerator but you have some qu
 estions? \n\n\nCome to this event prep session to find out all you need t
 o know and get pumped up about the event.\n\n\nWe know you'll find it inf
 ormative\, and it will prepare you to present your big idea at the event 
 Oct. 27.\n\n\nCan't make it in person? No problem. Email efactory@missour
 istate.edu to get a Zoom link for either date.
X-ALT-DESC;FMTTYPE=text/html:&lt;html&gt;&lt;head&gt;&lt;title&gt;&lt;/title&gt;&lt;/head&gt;&lt;body&gt;&lt;p&gt;Wa
 nt to attend the Innovation Accelerator but you have some questions?&amp;nbsp
 \;&lt;/p&gt;\n&lt;p&gt;Come to this event prep session to find out all you need to kn
 ow and get pumped up about the event.&lt;/p&gt;\n&lt;p&gt;We know you'll find it info
 rmative\, and it will prepare you to present your big idea at the event O
 ct. 27.&lt;/p&gt;\n&lt;p&gt;Can't make it in person? No problem. Email efactory@misso
 uristate.edu to get a Zoom link for either date.&lt;/p&gt;&lt;/body&gt;&lt;/html&gt;
DTSTART;TZID=America/Chicago:20230912T100000
DTEND;TZID=America/Chicago:20230912T110000
SEQUENCE:0
URL:https://www.missouristate.edu/EVP/innovation.htm
CATEGORIES:Current Students,Faculty,Staff
END:VEVENT
END:VCALENDAR