BEGIN:VCALENDAR
VERSION:2.0
METHOD:PUBLISH
PRODID:-//Missouri State University/Calendar of Events//EN
CALSCALE:GREGORIAN
X-WR-TIMEZONE:America/Chicago
BEGIN:VTIMEZONE
TZID:America/Chicago
BEGIN:DAYLIGHT
TZOFFSETFROM:-0600
TZOFFSETTO:-0500
DTSTART:20070311T020000
RRULE:FREQ=YEARLY;BYMONTH=3;BYDAY=2SU
TZNAME:CDT
END:DAYLIGHT
BEGIN:STANDARD
TZOFFSETFROM:-0500
TZOFFSETTO:-0600
DTSTART:20071104T020000
RRULE:FREQ=YEARLY;BYMONTH=11;BYDAY=1SU
TZNAME:CST
END:STANDARD
END:VTIMEZONE
BEGIN:VEVENT
UID:ca27d95a-88d9-4ed4-9ebc-3bc4724ac61c.229006@calendar.missouristate.edu
CREATED:20230901T133959Z
LAST-MODIFIED:20230901T133959Z
LOCATION:McQueary Family Health Sciences Hall 126
SUMMARY:MCHHS Fall 2023 Speakers Series: AI and Higher Education
DESCRIPTION:Join us for the first session of the MCHHS Fall 2023 Speakers 
 Series. The topic will be AI and Higher Education: Opportunities and Chal
 lenges.\n\n\nThere will be a panel of five speakers to share their expert
 ise and answer your questions. The event will be held in person and on Zo
 om.\n\n\nLight refreshments will be served.
X-ALT-DESC;FMTTYPE=text/html:&lt;html&gt;&lt;head&gt;&lt;title&gt;&lt;/title&gt;&lt;/head&gt;&lt;body&gt;&lt;p&gt;Jo
 in us for the first session of the MCHHS Fall 2023 Speakers Series. The t
 opic will be &lt;strong&gt;AI and Higher Education: Opportunities and Challenge
 s&lt;/strong&gt;.&lt;/p&gt;\n&lt;p&gt;There will be a panel of five speakers to share their
  expertise and answer your questions. The event will be held in&amp;nbsp\;per
 son and on &lt;a href="https://missouristate.zoom.us/j/92741031556#success"&gt;
 Zoom&lt;/a&gt;.&lt;/p&gt;\n&lt;p&gt;Light refreshments will be served.&lt;/p&gt;&lt;/body&gt;&lt;/html&gt;
DTSTART;TZID=America/Chicago:20230915T133000
DTEND;TZID=America/Chicago:20230915T153000
SEQUENCE:0
URL:119972.jpg
CATEGORIES:Alumni,Current Students,Faculty,Staff
END:VEVENT
END:VCALENDAR