BEGIN:VCALENDAR
VERSION:2.0
METHOD:PUBLISH
PRODID:-//Missouri State University/Calendar of Events//EN
CALSCALE:GREGORIAN
X-WR-TIMEZONE:America/Chicago
BEGIN:VTIMEZONE
TZID:America/Chicago
BEGIN:DAYLIGHT
TZOFFSETFROM:-0600
TZOFFSETTO:-0500
DTSTART:20070311T020000
RRULE:FREQ=YEARLY;BYMONTH=3;BYDAY=2SU
TZNAME:CDT
END:DAYLIGHT
BEGIN:STANDARD
TZOFFSETFROM:-0500
TZOFFSETTO:-0600
DTSTART:20071104T020000
RRULE:FREQ=YEARLY;BYMONTH=11;BYDAY=1SU
TZNAME:CST
END:STANDARD
END:VTIMEZONE
BEGIN:VEVENT
UID:97c85ced-b40e-47e9-8289-4a968cb21520.229015@calendar.missouristate.edu
CREATED:20230821T051503Z
LAST-MODIFIED:20230821T051503Z
LOCATION:Springfield\, MO\, Twin Oaks Country Club
SUMMARY:Missouri State University Women's Golf vs MSU/Payne Stewart Memori
 al
DESCRIPTION:Missouri State University Women's Golf hosts MSU/Payne Stewart
  Memorial
X-ALT-DESC;FMTTYPE=text/html:&lt;html&gt;&lt;head&gt;&lt;title&gt;&lt;/title&gt;&lt;/head&gt;&lt;body&gt;Misso
 uri State University Women's Golf hosts MSU/Payne Stewart Memorial&lt;/body&gt;
 &lt;/html&gt;
DTSTART;TZID=America/Chicago:20230911T080000
DTEND;TZID=America/Chicago:20230911T000000
SEQUENCE:0
URL:http://missouristatebears.com/index.aspx?path=wgolf
CATEGORIES:Current Students,Future Students,Parents and Family,Alumni,
 Faculty,Staff,Community,Visitors,Athletics
END:VEVENT
END:VCALENDAR