BEGIN:VCALENDAR
VERSION:2.0
METHOD:PUBLISH
PRODID:-//Missouri State University/Calendar of Events//EN
CALSCALE:GREGORIAN
X-WR-TIMEZONE:America/Chicago
BEGIN:VTIMEZONE
TZID:America/Chicago
BEGIN:DAYLIGHT
TZOFFSETFROM:-0600
TZOFFSETTO:-0500
DTSTART:20070311T020000
RRULE:FREQ=YEARLY;BYMONTH=3;BYDAY=2SU
TZNAME:CDT
END:DAYLIGHT
BEGIN:STANDARD
TZOFFSETFROM:-0500
TZOFFSETTO:-0600
DTSTART:20071104T020000
RRULE:FREQ=YEARLY;BYMONTH=11;BYDAY=1SU
TZNAME:CST
END:STANDARD
END:VTIMEZONE
BEGIN:VEVENT
UID:31a6b28a-54c1-41d5-bded-ae70ad4c7e74.229046@calendar.missouristate.edu
CREATED:20230822T153436Z
LAST-MODIFIED:20230822T153436Z
LOCATION:
SUMMARY:Communication Basics Virtual Workshop
DESCRIPTION:Every problem in the workplace may not stem from poor communic
 ation—but poor communication is the root of enough problems that it’s wor
 th talking about.\n\n\nJoin us for this illuminating virtual workshop and
  learn what you can do to be a more effective communicator.\n\n\nFacilita
 tor: Gloria Galanes\, MSU dean emeritus
X-ALT-DESC;FMTTYPE=text/html:&lt;html&gt;&lt;head&gt;&lt;title&gt;&lt;/title&gt;&lt;/head&gt;&lt;body&gt;&lt;p&gt;Ev
 ery problem in the workplace may not stem from poor communication—but poo
 r communication is the root of enough problems that it’s worth talking ab
 out.&lt;/p&gt;\n&lt;p&gt;&lt;strong&gt;Join us for this illuminating virtual workshop and l
 earn what you can do to be a more effective communicator.&lt;/strong&gt;&lt;/p&gt;\n&lt;
 p&gt;Facilitator: Gloria Galanes\, MSU dean emeritus&lt;/p&gt;&lt;/body&gt;&lt;/html&gt;
DTSTART;TZID=America/Chicago:20231019T140000
DTEND;TZID=America/Chicago:20231019T160000
SEQUENCE:0
URL:https://blogs.missouristate.edu/human/2023/08/17/boost-communication-s
 kills-with-virtual-workshops/
CATEGORIES:Faculty,Staff
END:VEVENT
END:VCALENDAR