BEGIN:VCALENDAR
VERSION:2.0
METHOD:PUBLISH
PRODID:-//Missouri State University/Calendar of Events//EN
CALSCALE:GREGORIAN
X-WR-TIMEZONE:America/Chicago
BEGIN:VTIMEZONE
TZID:America/Chicago
BEGIN:DAYLIGHT
TZOFFSETFROM:-0600
TZOFFSETTO:-0500
DTSTART:20070311T020000
RRULE:FREQ=YEARLY;BYMONTH=3;BYDAY=2SU
TZNAME:CDT
END:DAYLIGHT
BEGIN:STANDARD
TZOFFSETFROM:-0500
TZOFFSETTO:-0600
DTSTART:20071104T020000
RRULE:FREQ=YEARLY;BYMONTH=11;BYDAY=1SU
TZNAME:CST
END:STANDARD
END:VTIMEZONE
BEGIN:VEVENT
UID:988e2696-821f-4499-bbe4-588b3b1a67b5.229047@calendar.missouristate.edu
CREATED:20230822T144306Z
LAST-MODIFIED:20230822T144306Z
LOCATION:
SUMMARY:Effective Listening Virtual Workshop
DESCRIPTION:Good listeners have deeper\, stronger and better relationships
  at work\, at home and with friends. This workshop will explain why liste
 ning is important\, help you figure out what type of listener you are and
  teach you the necessary skills to become a more effective listener. Join
  us for this two-hour workshop.\n\n\nJoin us and learn the power of effec
 tive listening!\n\n\nFacilitator:  Gloria Galanes\, MSU dean emeritus
X-ALT-DESC;FMTTYPE=text/html:&lt;html&gt;&lt;head&gt;&lt;title&gt;&lt;/title&gt;&lt;/head&gt;&lt;body&gt;&lt;p&gt;Go
 od listeners have deeper\, stronger and better relationships at work\, at
  home and with friends. This workshop will explain why listening is impor
 tant\, help you figure out what type of listener you are and teach you th
 e necessary skills to become a more effective listener. Join us for this 
 two-hour workshop.&lt;/p&gt;\n&lt;p&gt;&lt;strong&gt;Join us and learn the power of effecti
 ve listening!&lt;/strong&gt;&lt;/p&gt;\n&lt;p&gt;Facilitator:&amp;nbsp\; Gloria Galanes\, MSU d
 ean emeritus&lt;/p&gt;&lt;/body&gt;&lt;/html&gt;
DTSTART;TZID=America/Chicago:20231117T090000
DTEND;TZID=America/Chicago:20231117T110000
SEQUENCE:0
URL:https://blogs.missouristate.edu/human/2023/08/17/boost-communication-s
 kills-with-virtual-workshops/
CATEGORIES:Faculty,Staff
END:VEVENT
END:VCALENDAR