BEGIN:VCALENDAR
VERSION:2.0
METHOD:PUBLISH
PRODID:-//Missouri State University/Calendar of Events//EN
CALSCALE:GREGORIAN
X-WR-TIMEZONE:America/Chicago
BEGIN:VTIMEZONE
TZID:America/Chicago
BEGIN:DAYLIGHT
TZOFFSETFROM:-0600
TZOFFSETTO:-0500
DTSTART:20070311T020000
RRULE:FREQ=YEARLY;BYMONTH=3;BYDAY=2SU
TZNAME:CDT
END:DAYLIGHT
BEGIN:STANDARD
TZOFFSETFROM:-0500
TZOFFSETTO:-0600
DTSTART:20071104T020000
RRULE:FREQ=YEARLY;BYMONTH=11;BYDAY=1SU
TZNAME:CST
END:STANDARD
END:VTIMEZONE
BEGIN:VEVENT
UID:0cb671e6-8511-418f-a996-7e9071043ef3.229049@calendar.missouristate.edu
CREATED:20230822T151228Z
LAST-MODIFIED:20230822T151228Z
LOCATION:Recreation Center\, Bill R. Foster and Family
SUMMARY:Rec Fest
DESCRIPTION:The Foster Recreation Center is hosting its annual Rec Fest! A
  night of games\, competition\, and give aways.\n\n\nCome dressed in your
  best 90s outfit and have a full night of fun!\n\n\nSign up a team to com
 pete in relays HERE!
X-ALT-DESC;FMTTYPE=text/html:&lt;html&gt;&lt;head&gt;&lt;title&gt;&lt;/title&gt;&lt;/head&gt;&lt;body&gt;&lt;p&gt;Th
 e Foster Recreation Center is hosting its annual Rec Fest! A night of gam
 es\, competition\, and give aways.&lt;/p&gt;\n&lt;p&gt;Come dressed in your best 90s 
 outfit and have a full night of fun!&lt;/p&gt;\n&lt;p&gt;Sign up a team to compete in
  relays &lt;a href="https://docs.google.com/forms/d/e/1FAIpQLSezjNU5ArmmRFlT
 zhgad9KHwtIYLQ4L81Ikuhf7PtWTUaCQ1w/viewform"&gt;HERE&lt;/a&gt;!&lt;/p&gt;&lt;/body&gt;&lt;/html&gt;
DTSTART;TZID=America/Chicago:20230824T190000
DTEND;TZID=America/Chicago:20230824T230000
SEQUENCE:0
URL:
CATEGORIES:Current Students
END:VEVENT
END:VCALENDAR