BEGIN:VCALENDAR
VERSION:2.0
METHOD:PUBLISH
PRODID:-//Missouri State University/Calendar of Events//EN
CALSCALE:GREGORIAN
X-WR-TIMEZONE:America/Chicago
BEGIN:VTIMEZONE
TZID:America/Chicago
BEGIN:DAYLIGHT
TZOFFSETFROM:-0600
TZOFFSETTO:-0500
DTSTART:20070311T020000
RRULE:FREQ=YEARLY;BYMONTH=3;BYDAY=2SU
TZNAME:CDT
END:DAYLIGHT
BEGIN:STANDARD
TZOFFSETFROM:-0500
TZOFFSETTO:-0600
DTSTART:20071104T020000
RRULE:FREQ=YEARLY;BYMONTH=11;BYDAY=1SU
TZNAME:CST
END:STANDARD
END:VTIMEZONE
BEGIN:VEVENT
UID:b409e4c9-710e-48e6-a0ff-02b84d7daa29.229050@calendar.missouristate.edu
CREATED:20230822T151833Z
LAST-MODIFIED:20230822T151833Z
LOCATION:Recreation Center\, Bill R. Foster and Family
SUMMARY:Glow Climb
DESCRIPTION:The Foster Recreation Center invites you to join them for GLOW
  CLIMB! A night were the lights are off\, the black lights go on\, and we
  climb the rock wall! Break out the glow sticks and 90s attire for a nigh
 t you'll remember!
X-ALT-DESC;FMTTYPE=text/html:&lt;html&gt;&lt;head&gt;&lt;title&gt;&lt;/title&gt;&lt;/head&gt;&lt;body&gt;&lt;p&gt;Th
 e Foster Recreation Center invites you to join them for GLOW CLIMB! A nig
 ht were the lights are off\, the black lights go on\, and we climb the ro
 ck wall! Break out the glow sticks and 90s attire for a night you'll reme
 mber!&lt;/p&gt;&lt;/body&gt;&lt;/html&gt;
DTSTART;TZID=America/Chicago:20230824T210000
DTEND;TZID=America/Chicago:20230824T230000
SEQUENCE:0
URL:
CATEGORIES:Current Students
END:VEVENT
END:VCALENDAR