BEGIN:VCALENDAR
VERSION:2.0
METHOD:PUBLISH
PRODID:-//Missouri State University/Calendar of Events//EN
CALSCALE:GREGORIAN
X-WR-TIMEZONE:America/Chicago
BEGIN:VTIMEZONE
TZID:America/Chicago
BEGIN:DAYLIGHT
TZOFFSETFROM:-0600
TZOFFSETTO:-0500
DTSTART:20070311T020000
RRULE:FREQ=YEARLY;BYMONTH=3;BYDAY=2SU
TZNAME:CDT
END:DAYLIGHT
BEGIN:STANDARD
TZOFFSETFROM:-0500
TZOFFSETTO:-0600
DTSTART:20071104T020000
RRULE:FREQ=YEARLY;BYMONTH=11;BYDAY=1SU
TZNAME:CST
END:STANDARD
END:VTIMEZONE
BEGIN:VEVENT
UID:7c37d166-0d8d-49e2-bcaa-fd0c4d7c6018.229051@calendar.missouristate.edu
CREATED:20230822T192003Z
LAST-MODIFIED:20230822T192003Z
LOCATION:
SUMMARY:Public Affairs Mission: What Does It Mean? Can you Relate? - Virtu
 al Workshop
DESCRIPTION:Learn to become a more engaged Citizen Bear by modeling the th
 ree pillars of the public affairs mission in this informative virtual wor
 kshop. As the university is educating students to become global scholars\
 , it is imperative that employees can communicate\, interconnect and prom
 ote the meaning of public affairs to students and the community.\n\n\nFac
 ilitator: Mary Ann Wood\, director\, public affairs support
X-ALT-DESC;FMTTYPE=text/html:&lt;html&gt;&lt;head&gt;&lt;title&gt;&lt;/title&gt;&lt;/head&gt;&lt;body&gt;&lt;p&gt;Le
 arn to become a more engaged Citizen Bear by modeling the three pillars o
 f the public affairs mission in this informative virtual workshop. As the
  university is educating students to become global scholars\, it is imper
 ative that employees can communicate\, interconnect and promote the meani
 ng of public affairs to students and the community.&lt;/p&gt;\n&lt;p&gt;Facilitator: 
 Mary Ann Wood\, director\, public affairs support&lt;/p&gt;&lt;/body&gt;&lt;/html&gt;
DTSTART;TZID=America/Chicago:20231012T150000
DTEND;TZID=America/Chicago:20231012T160000
SEQUENCE:0
URL:https://blogs.missouristate.edu/human/2023/08/22/public_affairs_fall_t
 raining/
CATEGORIES:Faculty,Staff
END:VEVENT
END:VCALENDAR