BEGIN:VCALENDAR
VERSION:2.0
METHOD:PUBLISH
PRODID:-//Missouri State University/Calendar of Events//EN
CALSCALE:GREGORIAN
X-WR-TIMEZONE:America/Chicago
BEGIN:VTIMEZONE
TZID:America/Chicago
BEGIN:DAYLIGHT
TZOFFSETFROM:-0600
TZOFFSETTO:-0500
DTSTART:20070311T020000
RRULE:FREQ=YEARLY;BYMONTH=3;BYDAY=2SU
TZNAME:CDT
END:DAYLIGHT
BEGIN:STANDARD
TZOFFSETFROM:-0500
TZOFFSETTO:-0600
DTSTART:20071104T020000
RRULE:FREQ=YEARLY;BYMONTH=11;BYDAY=1SU
TZNAME:CST
END:STANDARD
END:VTIMEZONE
BEGIN:VEVENT
UID:0b377c92-3bdb-4ead-9a04-75c488a0c71a.229076@calendar.missouristate.edu
CREATED:20240104T165909Z
LAST-MODIFIED:20240104T165909Z
LOCATION:Plaster Student Union\, Robert W. 400 Union Club
SUMMARY:Clif's Connection - Bear Connection
DESCRIPTION:Clif's Connection is a special quarterly networking event host
 ed by university President Clif Smart and presented by Bear Connection. S
 taff members hired during the previous quarter and their Bear Connection 
 Ambassadors are encouraged to join President Smart for breakfast and take
  advantage of this unique opportunity to network with university leadersh
 ip and fellow staff members.
X-ALT-DESC;FMTTYPE=text/html:&lt;html&gt;&lt;head&gt;&lt;title&gt;&lt;/title&gt;&lt;/head&gt;&lt;body&gt;&lt;p&gt;Cl
 if's Connection is a special quarterly networking event hosted by univers
 ity President Clif Smart and presented by&amp;nbsp\;&lt;a href="https://www.miss
 ouristate.edu/human/bearconnection/"&gt;Bear Connection&lt;/a&gt;. Staff members h
 ired during the previous quarter and their Bear Connection Ambassadors ar
 e encouraged to join President Smart for breakfast and take advantage of 
 this unique opportunity to network with university leadership and fellow 
 staff members.&lt;/p&gt;\n&lt;p&gt;&lt;/p&gt;&lt;/body&gt;&lt;/html&gt;
DTSTART;TZID=America/Chicago:20240117T080000
DTEND;TZID=America/Chicago:20240117T083000
SEQUENCE:0
URL:https://www.missouristate.edu/Human/BearConnection/
CATEGORIES:Staff
END:VEVENT
END:VCALENDAR