BEGIN:VCALENDAR
VERSION:2.0
METHOD:PUBLISH
PRODID:-//Missouri State University/Calendar of Events//EN
CALSCALE:GREGORIAN
X-WR-TIMEZONE:America/Chicago
BEGIN:VTIMEZONE
TZID:America/Chicago
BEGIN:DAYLIGHT
TZOFFSETFROM:-0600
TZOFFSETTO:-0500
DTSTART:20070311T020000
RRULE:FREQ=YEARLY;BYMONTH=3;BYDAY=2SU
TZNAME:CDT
END:DAYLIGHT
BEGIN:STANDARD
TZOFFSETFROM:-0500
TZOFFSETTO:-0600
DTSTART:20071104T020000
RRULE:FREQ=YEARLY;BYMONTH=11;BYDAY=1SU
TZNAME:CST
END:STANDARD
END:VTIMEZONE
BEGIN:VEVENT
UID:878e2fde-641d-4466-8f0c-b4f0d40688e5_10067@calendar.missouristate.edu
CREATED:20230823T161409Z
LAST-MODIFIED:20230823T161409Z
LOCATION:To Be Determined
SUMMARY:Ursa Experience 2024
DESCRIPTION:Start your Missouri State University experience with an advent
 ure.\n\n\nBuild friendships. Get involved in campus life. Learn universit
 y traditions. Get inspired. All these adventures begin at the Ursa Experi
 ence.\n\n\nThe Ursa Experience will take place Aug. 12-14\, 2024. Registr
 ation will open on March 1\, 2024.\n\n\nAt the Ursa Experience\, students
  are immersed in life at Missouri State in a three-day\, two-night advent
 ure. Both first-year and transfer students admitted for fall are invited 
 to attend.\n\n\nStudents will:\n\n\n\nBuild friendships with student lead
 ers and other students attending\nLearn and participate in Missouri State
  traditions\nDiscuss and think deeply about our public affairs mission\nE
 xplore involvement opportunities at Missouri State\nMake memories that wi
 ll last a lifetime
X-ALT-DESC;FMTTYPE=text/html:&lt;html&gt;&lt;head&gt;&lt;title&gt;&lt;/title&gt;&lt;/head&gt;&lt;body&gt;&lt;p&gt;&lt;s
 trong&gt;Start your Missouri State University experience with an adventure&lt;/
 strong&gt;.&lt;/p&gt;\n&lt;p&gt;Build friendships. Get involved in campus life. Learn un
 iversity traditions. Get inspired. All these adventures begin at the Ursa
  Experience.&lt;/p&gt;\n&lt;p&gt;The Ursa Experience will take place Aug. 12-14\, 202
 4. Registration will open on March 1\, 2024.&lt;/p&gt;\n&lt;p&gt;At the Ursa Experien
 ce\, students are immersed in life at Missouri State in a three-day\, two
 -night adventure. Both first-year and transfer students admitted for fall
  are invited to attend.&lt;/p&gt;\n&lt;p&gt;Students will:&lt;/p&gt;\n&lt;ul&gt;\n&lt;li&gt;Build frien
 dships with student leaders and other students attending&lt;/li&gt;\n&lt;li&gt;Learn 
 and participate in Missouri State traditions&lt;/li&gt;\n&lt;li&gt;Discuss and think 
 deeply about our public affairs mission&lt;/li&gt;\n&lt;li&gt;Explore involvement opp
 ortunities at Missouri State&lt;/li&gt;\n&lt;li&gt;Make memories that will last a lif
 etime&lt;/li&gt;\n&lt;/ul&gt;&lt;/body&gt;&lt;/html&gt;
DTSTART;VALUE=DATE:20240812
DTEND;VALUE=DATE:20240813
RRULE:FREQ=DAILY;UNTIL=20240815
SEQUENCE:0
URL:https://www.missouristate.edu/Ursa/default.htm
CATEGORIES:Future Students
END:VEVENT
END:VCALENDAR