BEGIN:VCALENDAR
VERSION:2.0
METHOD:PUBLISH
PRODID:-//Missouri State University/Calendar of Events//EN
CALSCALE:GREGORIAN
X-WR-TIMEZONE:America/Chicago
BEGIN:VTIMEZONE
TZID:America/Chicago
BEGIN:DAYLIGHT
TZOFFSETFROM:-0600
TZOFFSETTO:-0500
DTSTART:20070311T020000
RRULE:FREQ=YEARLY;BYMONTH=3;BYDAY=2SU
TZNAME:CDT
END:DAYLIGHT
BEGIN:STANDARD
TZOFFSETFROM:-0500
TZOFFSETTO:-0600
DTSTART:20071104T020000
RRULE:FREQ=YEARLY;BYMONTH=11;BYDAY=1SU
TZNAME:CST
END:STANDARD
END:VTIMEZONE
BEGIN:VEVENT
UID:c485f080-debf-445c-a065-27abdbcc0c0d_10064@calendar.missouristate.edu
CREATED:20230824T184023Z
LAST-MODIFIED:20230824T184023Z
LOCATION:Plaster Student Union\, Robert W. Union Club\, PSU 400
SUMMARY:LIBERAtE Worship
DESCRIPTION:Every Tuesday\, we gather for a worship service that explores 
 faith through a lens of justice and inclusion. Bring your faith\, your do
 ubts\, your questions and your friends!\n\n\nLIBERAtE is a welcoming spac
 e for all who seek community\, personal growth and/or spiritual formation
 \, regardless of what you believe or don't believe\, and for people of ev
 ery race\, nationality\, differing ability and sexual and gender identity
 . ALL are welcome! 
X-ALT-DESC;FMTTYPE=text/html:&lt;html&gt;&lt;head&gt;&lt;title&gt;&lt;/title&gt;&lt;/head&gt;&lt;body&gt;&lt;p&gt;Ev
 ery Tuesday\, we gather for a worship service that explores faith through
  a lens of justice and inclusion. Bring your faith\, your doubts\, your q
 uestions and your friends!&lt;/p&gt;\n&lt;p&gt;LIBERAtE is a welcoming space for all 
 who seek community\, personal growth and/or spiritual formation\, regardl
 ess of what you believe or don't believe\,&amp;nbsp\;and for people of every 
 race\, nationality\, differing ability and sexual and gender identity. AL
 L are welcome!&amp;nbsp\;&lt;/p&gt;&lt;/body&gt;&lt;/html&gt;
DTSTART;TZID=America/Chicago:20230829T200000
DTEND;TZID=America/Chicago:20230829T210000
RRULE:FREQ=WEEKLY;BYDAY=MO;UNTIL=20240508
EXDATE;TZID=America/Chicago:20231121T200000
EXDATE;TZID=America/Chicago:20231219T200000
EXDATE;TZID=America/Chicago:20231226T200000
EXDATE;TZID=America/Chicago:20240102T200000
EXDATE;TZID=America/Chicago:20240109T200000
EXDATE;TZID=America/Chicago:20240312T200000
SEQUENCE:0
URL:http://www.ekklesiamsu.org
CATEGORIES:Public,Alumni,Current Students,Faculty,Future Students,Staff
END:VEVENT
END:VCALENDAR