BEGIN:VCALENDAR
VERSION:2.0
METHOD:PUBLISH
PRODID:-//Missouri State University/Calendar of Events//EN
CALSCALE:GREGORIAN
X-WR-TIMEZONE:America/Chicago
BEGIN:VTIMEZONE
TZID:America/Chicago
BEGIN:DAYLIGHT
TZOFFSETFROM:-0600
TZOFFSETTO:-0500
DTSTART:20070311T020000
RRULE:FREQ=YEARLY;BYMONTH=3;BYDAY=2SU
TZNAME:CDT
END:DAYLIGHT
BEGIN:STANDARD
TZOFFSETFROM:-0500
TZOFFSETTO:-0600
DTSTART:20071104T020000
RRULE:FREQ=YEARLY;BYMONTH=11;BYDAY=1SU
TZNAME:CST
END:STANDARD
END:VTIMEZONE
BEGIN:VEVENT
UID:00000000-0000-0000-0000-000000000000.229125@calendar.missouristate.edu
CREATED:20230824T184522Z
LAST-MODIFIED:20230824T184522Z
LOCATION:To Be Determined
SUMMARY:Black Alumni Network Reception
DESCRIPTION:Join fellow Bears at a Black Alumni Network social on Septembe
 r 22.  The event is hosted by the Black Alumni Council. Catch up with fri
 ends\, make new ones and learn about upcoming events supporting Missouri 
 State University's Black alumni and current students.
X-ALT-DESC;FMTTYPE=text/html:&lt;html&gt;&lt;head&gt;&lt;title&gt;&lt;/title&gt;&lt;/head&gt;&lt;body&gt;&lt;p&gt;Jo
 in fellow Bears at a Black Alumni Network social on September 22.&amp;nbsp\; 
 The event is hosted by the Black Alumni Council. Catch up with friends\, 
 make new ones and learn about upcoming events supporting Missouri State U
 niversity's Black alumni and current students.&lt;/p&gt;&lt;/body&gt;&lt;/html&gt;
DTSTART;TZID=America/Chicago:20230922T180000
DTEND;TZID=America/Chicago:20230922T200000
SEQUENCE:0
URL:https://missouristate.imodules.com?sid=1691&amp;gid=2&amp;pgid=3272&amp;cid=5676&amp;e
 cid=5676&amp;ciid=19366&amp;crid=0
CATEGORIES:Public,Alumni,Parents and Family,Visitors
END:VEVENT
END:VCALENDAR