BEGIN:VCALENDAR
VERSION:2.0
METHOD:PUBLISH
PRODID:-//Missouri State University/Calendar of Events//EN
CALSCALE:GREGORIAN
X-WR-TIMEZONE:America/Chicago
BEGIN:VTIMEZONE
TZID:America/Chicago
BEGIN:DAYLIGHT
TZOFFSETFROM:-0600
TZOFFSETTO:-0500
DTSTART:20070311T020000
RRULE:FREQ=YEARLY;BYMONTH=3;BYDAY=2SU
TZNAME:CDT
END:DAYLIGHT
BEGIN:STANDARD
TZOFFSETFROM:-0500
TZOFFSETTO:-0600
DTSTART:20071104T020000
RRULE:FREQ=YEARLY;BYMONTH=11;BYDAY=1SU
TZNAME:CST
END:STANDARD
END:VTIMEZONE
BEGIN:VEVENT
UID:edcdef88-bd5c-43a8-a750-5917a36ed361.229126@calendar.missouristate.edu
CREATED:20230826T211232Z
LAST-MODIFIED:20230826T211232Z
LOCATION:To Be Determined
SUMMARY:Bear Your Talent Tuesday
DESCRIPTION:"Bear" Your Talent Tuesday provides employers an opportunity t
 o visit campus and meet students\, faculty and staff in academic building
 s and other locations across campus.\n\n\nThe Career Center invites you t
 o visit with these employers as they may connect you to current jobs and 
 career opportunities.\n\n\n\nUnited State Marine Corps - Plaster Student 
 Union Courtyard\, 10 a.m.-2 p.m.\nRush Enterprises - Plaster Student Unio
 n 2nd floor\, 10 a.m.-2 p.m.\nStaffing Plus - Pummill Hall 3rd floor\, 9 
 a.m.-2 p.m.\nUnited Health Group - Craig Hall lobby - 10 a.m.-2 p.m.
X-ALT-DESC;FMTTYPE=text/html:&lt;html&gt;&lt;head&gt;&lt;title&gt;&lt;/title&gt;&lt;/head&gt;&lt;body&gt;&lt;p&gt;&lt;s
 trong&gt;"Bear" Your Talent Tuesday&amp;nbsp\;&lt;/strong&gt;provides employers an opp
 ortunity to visit campus and meet students\, faculty and staff in academi
 c buildings and other locations across campus.&lt;/p&gt;\n&lt;p&gt;The Career Center 
 invites you to visit with these employers as they may connect you to curr
 ent jobs and career opportunities.&lt;/p&gt;\n&lt;ul&gt;\n&lt;li&gt;&lt;strong&gt;United State Ma
 rine Corps&amp;nbsp\;&lt;/strong&gt;- Plaster Student Union Courtyard\, 10 a.m.-2 p
 .m.&lt;/li&gt;\n&lt;li&gt;&lt;strong&gt;Rush Enterprises&amp;nbsp\;&lt;/strong&gt;-&amp;nbsp\;Plaster Stu
 dent Union 2nd floor\, 10 a.m.-2 p.m.&lt;/li&gt;\n&lt;li&gt;&lt;strong&gt;Staffing Plus&amp;nbs
 p\;&lt;/strong&gt;- Pummill Hall 3rd floor\, 9 a.m.-2 p.m.&lt;/li&gt;\n&lt;li&gt;&lt;strong&gt;Un
 ited Health Group&amp;nbsp\;&lt;/strong&gt;- Craig Hall lobby - 10 a.m.-2 p.m.&lt;/li&gt;
 \n&lt;/ul&gt;&lt;/body&gt;&lt;/html&gt;
DTSTART;TZID=America/Chicago:20230919T090000
DTEND;TZID=America/Chicago:20230919T140000
SEQUENCE:1
URL:
CATEGORIES:Public,Alumni,Current Students,Faculty,Future Students,Staff
END:VEVENT
END:VCALENDAR