BEGIN:VCALENDAR
VERSION:2.0
METHOD:PUBLISH
PRODID:-//Missouri State University/Calendar of Events//EN
CALSCALE:GREGORIAN
X-WR-TIMEZONE:America/Chicago
BEGIN:VTIMEZONE
TZID:America/Chicago
BEGIN:DAYLIGHT
TZOFFSETFROM:-0600
TZOFFSETTO:-0500
DTSTART:20070311T020000
RRULE:FREQ=YEARLY;BYMONTH=3;BYDAY=2SU
TZNAME:CDT
END:DAYLIGHT
BEGIN:STANDARD
TZOFFSETFROM:-0500
TZOFFSETTO:-0600
DTSTART:20071104T020000
RRULE:FREQ=YEARLY;BYMONTH=11;BYDAY=1SU
TZNAME:CST
END:STANDARD
END:VTIMEZONE
BEGIN:VEVENT
UID:79a246a5-5d2c-447b-9f5c-e7676dbfa2e6.229167@calendar.missouristate.edu
CREATED:20230830T134530Z
LAST-MODIFIED:20230830T134530Z
LOCATION:Plaster Student Union\, Robert W. 313
SUMMARY:Academic Advisor Forum: Exploring Ethical Frameworks for Advising:
  Part 1
DESCRIPTION:Facilitator: Kimmy Walker\, Assistant Director-MCHHS Student S
 uccess &amp; Advisement Center\n\n\nAdvisors sometimes face tough situations 
 with no “right” or “wrong” answer. Without policy to lean on\, ethical fr
 ameworks can provide guidance on how to act in these situations. This ses
 sion will explore common ethical ideals and principles used in advising\,
  as well as provide an opportunity for self-exploration as participants c
 onsider their own ethical frameworks for advising. Look for Part II in sp
 ring 2024\, when participants can dive into putting their ethical framewo
 rks to use.
X-ALT-DESC;FMTTYPE=text/html:&lt;html&gt;&lt;head&gt;&lt;title&gt;&lt;/title&gt;&lt;/head&gt;&lt;body&gt;&lt;p&gt;Fa
 cilitator: Kimmy Walker\, Assistant Director-MCHHS Student Success &amp;amp\;
  Advisement Center&lt;/p&gt;\n&lt;p&gt;Advisors sometimes face tough situations with 
 no “right” or “wrong” answer. Without policy to lean on\, ethical framewo
 rks can provide guidance on how to act in these situations. This session 
 will explore common ethical ideals and principles used in advising\, as w
 ell as provide an opportunity for self-exploration as participants consid
 er their own ethical frameworks for advising. Look for Part II in spring 
 2024\, when participants can dive into putting their ethical frameworks t
 o use.&lt;/p&gt;&lt;/body&gt;&lt;/html&gt;
DTSTART;TZID=America/Chicago:20230920T120000
DTEND;TZID=America/Chicago:20230920T130000
SEQUENCE:1
URL:120048.png
CATEGORIES:Faculty,Staff
END:VEVENT
END:VCALENDAR